BEGIN:VCALENDAR
VERSION:2.0
PRODID:-//Willingshausen (Ortsteil) - ECPv6.15.20//NONSGML v1.0//EN
CALSCALE:GREGORIAN
METHOD:PUBLISH
X-WR-CALNAME:Willingshausen (Ortsteil)
X-ORIGINAL-URL:https://willingshausen.info
X-WR-CALDESC:Veranstaltungen für Willingshausen (Ortsteil)
REFRESH-INTERVAL;VALUE=DURATION:PT1H
X-Robots-Tag:noindex
X-PUBLISHED-TTL:PT1H
BEGIN:VTIMEZONE
TZID:Europe/Berlin
BEGIN:DAYLIGHT
TZOFFSETFROM:+0100
TZOFFSETTO:+0200
TZNAME:CEST
DTSTART:20230326T010000
END:DAYLIGHT
BEGIN:STANDARD
TZOFFSETFROM:+0200
TZOFFSETTO:+0100
TZNAME:CET
DTSTART:20231029T010000
END:STANDARD
BEGIN:DAYLIGHT
TZOFFSETFROM:+0100
TZOFFSETTO:+0200
TZNAME:CEST
DTSTART:20240331T010000
END:DAYLIGHT
BEGIN:STANDARD
TZOFFSETFROM:+0200
TZOFFSETTO:+0100
TZNAME:CET
DTSTART:20241027T010000
END:STANDARD
BEGIN:DAYLIGHT
TZOFFSETFROM:+0100
TZOFFSETTO:+0200
TZNAME:CEST
DTSTART:20250330T010000
END:DAYLIGHT
BEGIN:STANDARD
TZOFFSETFROM:+0200
TZOFFSETTO:+0100
TZNAME:CET
DTSTART:20251026T010000
END:STANDARD
BEGIN:DAYLIGHT
TZOFFSETFROM:+0100
TZOFFSETTO:+0200
TZNAME:CEST
DTSTART:20260329T010000
END:DAYLIGHT
BEGIN:STANDARD
TZOFFSETFROM:+0200
TZOFFSETTO:+0100
TZNAME:CET
DTSTART:20261025T010000
END:STANDARD
END:VTIMEZONE
BEGIN:VEVENT
DTSTART;TZID=Europe/Berlin:20250819T200000
DTEND;TZID=Europe/Berlin:20250819T220000
DTSTAMP:20260425T191142
CREATED:20250814T193536Z
LAST-MODIFIED:20250814T193538Z
UID:10002247-1755633600-1755640800@willingshausen.info
SUMMARY:Ortsbeiratssitzung
DESCRIPTION:Die Tagesordnung:  \n\n\n\n\nBegrüßung und Feststellung der Beschlussfähigkeit \n\n\n\nBisherige durchgeführte Aktivitäten durch den Bauhof/durch das Bauamt und zukünftige Anregungen\n\n\n\nVermüllung Containeranlage\n\n\n\nStarkes Dorf\n\n\n\nStellungnahme zum Bebauungsplan Feuerwehr und Nahwärme Trutzhain\n\n\n\nVerschiedenes \n\n\n\n\nDie Sitzung ist öffentlich.
URL:https://willingshausen.info/termin/ortsbeiratssitzung-13/
LOCATION:Gemeindehaus (Altes Pfarrhaus)\, Merzhäuser Str. 24\, Willingshausen\, 34628
CATEGORIES:Ortsbeirat
ATTACH;FMTTYPE=image/jpeg:https://willingshausen.info/wp-content/uploads/2023/02/Gemeindehaus-Sitemap.jpg
ORGANIZER;CN="Ortsbeirat Willingshausen":MAILTO:kontakt@willingshausen.info
END:VEVENT
BEGIN:VEVENT
DTSTART;TZID=Europe/Berlin:20250528T140000
DTEND;TZID=Europe/Berlin:20250528T160000
DTSTAMP:20260425T191142
CREATED:20250311T203839Z
LAST-MODIFIED:20250311T203841Z
UID:10002127-1748440800-1748448000@willingshausen.info
SUMMARY:Kaffeeklatsch mit der Pfarrerin
DESCRIPTION:
URL:https://willingshausen.info/termin/kaffeeklatsch-mit-der-pfarrerin-12/
LOCATION:Gemeindehaus (Altes Pfarrhaus)\, Merzhäuser Str. 24\, Willingshausen\, 34628
CATEGORIES:Kirche
ATTACH;FMTTYPE=image/jpeg:https://willingshausen.info/wp-content/uploads/2023/02/Gemeindehaus-Sitemap.jpg
ORGANIZER;CN="Evangelische Kirchengemeinde Merzhausen-Willingshausen":MAILTO:pfarramt.merzhausen@ekkw.de
END:VEVENT
BEGIN:VEVENT
DTSTART;TZID=Europe/Berlin:20250423T200000
DTEND;TZID=Europe/Berlin:20250423T220000
DTSTAMP:20260425T191142
CREATED:20250414T112013Z
LAST-MODIFIED:20250414T112015Z
UID:10002147-1745438400-1745445600@willingshausen.info
SUMMARY:Ortsbeiratssitzung
DESCRIPTION:Die Tagesordnung:  \n\n\n\n\nBegrüßung und Feststellung der Beschlussfähigkeit \n\n\n\nNachbetrachtung Verkehrsschau\n\n\n\nStarkes Dorf\n\n\n\nProjekte des Ortsbeirates in der laufenden Legislaturperiode \n\n\n\nHaushaltsvorschläge\n\n\n\nVerschiedenes \n\n\n\n\nDie Sitzung ist öffentlich.
URL:https://willingshausen.info/termin/ortsbeiratssitzung-12/
LOCATION:Gemeindehaus (Altes Pfarrhaus)\, Merzhäuser Str. 24\, Willingshausen\, 34628
CATEGORIES:Ortsbeirat
ATTACH;FMTTYPE=image/jpeg:https://willingshausen.info/wp-content/uploads/2023/02/Gemeindehaus-Sitemap.jpg
ORGANIZER;CN="Ortsbeirat Willingshausen":MAILTO:kontakt@willingshausen.info
END:VEVENT
BEGIN:VEVENT
DTSTART;TZID=Europe/Berlin:20250320T190000
DTEND;TZID=Europe/Berlin:20250320T210000
DTSTAMP:20260425T191142
CREATED:20250130T204759Z
LAST-MODIFIED:20250302T163556Z
UID:10002097-1742497200-1742504400@willingshausen.info
SUMMARY:Kochen mit Christina Schlemmer
DESCRIPTION:
URL:https://willingshausen.info/termin/kochen-mit-christina-schlemmer/
LOCATION:Gemeindehaus (Altes Pfarrhaus)\, Merzhäuser Str. 24\, Willingshausen\, 34628
CATEGORIES:Vereine
ATTACH;FMTTYPE=image/jpeg:https://willingshausen.info/wp-content/uploads/2023/02/csm_LandfrauenWillingshausenSitemap_726bb45183.jpg
END:VEVENT
BEGIN:VEVENT
DTSTART;TZID=Europe/Berlin:20250129T200000
DTEND;TZID=Europe/Berlin:20250129T220000
DTSTAMP:20260425T191142
CREATED:20250122T085642Z
LAST-MODIFIED:20250122T085649Z
UID:10002061-1738180800-1738188000@willingshausen.info
SUMMARY:Ortsbeiratssitzung
DESCRIPTION:Die Tagesordnung:  \n\n\n\n\nBegrüßung und Feststellung der Beschlussfähigkeit \n\n\n\nStellungnahme zum Haushalt 2025 \n\n\n\nDorfplatz \n\n\n\nProjekte des Ortsbeirates in der laufenden Legislaturperiode \n\n\n\nVerschiedenes \n\n\n\n\nDie Sitzung ist öffentlich.
URL:https://willingshausen.info/termin/ortsbeiratssitzung-11/
LOCATION:Gemeindehaus (Altes Pfarrhaus)\, Merzhäuser Str. 24\, Willingshausen\, 34628
CATEGORIES:Ortsbeirat
ATTACH;FMTTYPE=image/jpeg:https://willingshausen.info/wp-content/uploads/2023/02/Gemeindehaus-Sitemap.jpg
ORGANIZER;CN="Ortsbeirat Willingshausen":MAILTO:kontakt@willingshausen.info
END:VEVENT
BEGIN:VEVENT
DTSTART;TZID=Europe/Berlin:20250129T140000
DTEND;TZID=Europe/Berlin:20250129T160000
DTSTAMP:20260425T191142
CREATED:20241129T140226Z
LAST-MODIFIED:20241129T140228Z
UID:10002045-1738159200-1738166400@willingshausen.info
SUMMARY:Kaffeeklatsch mit der Pfarrerin
DESCRIPTION:
URL:https://willingshausen.info/termin/kaffeeklatsch-mit-der-pfarrerin-9/
LOCATION:Gemeindehaus (Altes Pfarrhaus)\, Merzhäuser Str. 24\, Willingshausen\, 34628
CATEGORIES:Kirche
ATTACH;FMTTYPE=image/jpeg:https://willingshausen.info/wp-content/uploads/2023/02/Gemeindehaus-Sitemap.jpg
ORGANIZER;CN="Evangelische Kirchengemeinde Merzhausen-Willingshausen":MAILTO:pfarramt.merzhausen@ekkw.de
END:VEVENT
BEGIN:VEVENT
DTSTART;TZID=Europe/Berlin:20250124T193000
DTEND;TZID=Europe/Berlin:20250124T213000
DTSTAMP:20260425T191142
CREATED:20250102T185934Z
LAST-MODIFIED:20250102T190023Z
UID:10002054-1737747000-1737754200@willingshausen.info
SUMMARY:Jahreshauptversammlung des Förderverein "200 Jahre Künstlerkolonie Willingshausen e. V.“
DESCRIPTION:
URL:https://willingshausen.info/termin/jahreshauptversammlung-des-foerderverein-200-jahre-kuenstlerkolonie-willingshausen-e-v/
LOCATION:Gemeindehaus (Altes Pfarrhaus)\, Merzhäuser Str. 24\, Willingshausen\, 34628
ORGANIZER;CN="F%C3%B6rderverein 200 Jahre K%C3%BCnstlerkolonie Willingshausen":MAILTO:foerderverein-200-jahre-kuenstlerkolonie@gmx.de
END:VEVENT
BEGIN:VEVENT
DTSTART;TZID=Europe/Berlin:20250111T200000
DTEND;TZID=Europe/Berlin:20250111T223000
DTSTAMP:20260425T191142
CREATED:20250102T184938Z
LAST-MODIFIED:20250102T184941Z
UID:10002052-1736625600-1736634600@willingshausen.info
SUMMARY:Mitglieder- und Jahreshauptversammlung 2025 der Freiwilligen Feuerwehr
DESCRIPTION:
URL:https://willingshausen.info/termin/mitglieder-und-jahreshauptversammlung-2025-der-freiwilligen-feuerwehr/
LOCATION:Gemeindehaus (Altes Pfarrhaus)\, Merzhäuser Str. 24\, Willingshausen\, 34628
END:VEVENT
BEGIN:VEVENT
DTSTART;TZID=Europe/Berlin:20241211T200000
DTEND;TZID=Europe/Berlin:20241211T213000
DTSTAMP:20260425T191142
CREATED:20241127T162650Z
LAST-MODIFIED:20241205T121542Z
UID:10002042-1733947200-1733952600@willingshausen.info
SUMMARY:Ortsbeiratssitzung
DESCRIPTION:Die Tagesordnung:  \n\n\n\n\nBegrüßung und Feststellung der Beschlussfähigkeit\n\n\n\nVerkleidung Glascontainer\n\n\n\nGeschwindigkeitsbegrenzung Ortsdurchfahrten\n\n\n\nVerschiedenes\n\n\n\n\nDie Sitzung ist öffentlich.
URL:https://willingshausen.info/termin/ortsbeiratssitzung-10/
LOCATION:Gemeindehaus (Altes Pfarrhaus)\, Merzhäuser Str. 24\, Willingshausen\, 34628
CATEGORIES:Ortsbeirat
ATTACH;FMTTYPE=image/jpeg:https://willingshausen.info/wp-content/uploads/2023/02/Gemeindehaus-Sitemap.jpg
ORGANIZER;CN="Ortsbeirat Willingshausen":MAILTO:kontakt@willingshausen.info
END:VEVENT
BEGIN:VEVENT
DTSTART;TZID=Europe/Berlin:20241013T120000
DTEND;TZID=Europe/Berlin:20241013T160000
DTSTAMP:20260425T191142
CREATED:20240911T081942Z
LAST-MODIFIED:20241011T220634Z
UID:10002032-1728820800-1728835200@willingshausen.info
SUMMARY:Helferfest
DESCRIPTION:200 Jahre Künstlerkolonie Willingshausen\n\n\n\n\n\nDas Helferfest soll am Sonntag\, den 13. Okt. ab 12.00 Uhr\, im Gemeindehaus Willingshausen stattfinden. \n\n\n\nAlle die bei der Vorbereitung und Durchführung der Festlichkeiten in diesem Jahr mitgeholfen haben\, sind recht herzlich eingeladen. Es haben sich ca. 120 Personen für den Tag angemeldet. Getränke sind geholt\, Steaks und Würstchen sind bestellt\, es kann gegrillt werden. \n\n\n\nBitte verteilt den Termin im Bekanntenkreis.
URL:https://willingshausen.info/termin/helferfest/
LOCATION:Gemeindehaus (Altes Pfarrhaus)\, Merzhäuser Str. 24\, Willingshausen\, 34628
ATTACH;FMTTYPE=image/jpeg:https://willingshausen.info/wp-content/uploads/2023/05/Banner-2024-250-x75-340.jpg
ORGANIZER;CN="F%C3%B6rderverein 200 Jahre K%C3%BCnstlerkolonie Willingshausen":MAILTO:foerderverein-200-jahre-kuenstlerkolonie@gmx.de
END:VEVENT
BEGIN:VEVENT
DTSTART;TZID=Europe/Berlin:20240925T190000
DTEND;TZID=Europe/Berlin:20240925T210000
DTSTAMP:20260425T191142
CREATED:20240921T085404Z
LAST-MODIFIED:20240921T085801Z
UID:10002039-1727290800-1727298000@willingshausen.info
SUMMARY:Festausschuss-Sitzung
DESCRIPTION:© Förderverein 200 Jahre Künstlerkolonie Willingshausen e.V.\n\n\n\nVorbereitungstreffen für die Veranstaltungen zum Jubiläum „200 Jahre Künstlerkolonie Willingshausen“ im Jahr 2024. Die beiden großen Events im  August 2024 sind vorüber und jetzt geht es um die Organisation des Helferfestes. \n\n\n\nDer Festausschuss\, eine für jeden offene Arbeitsgruppe\, trifft sich mindestens einmal im Monat im Gemeindehaus. Alle die etwas beitragen oder unser Jubiläum mitgestalten wollen sind dazu herzlich eingeladen. Jeder der sich einbringen will das das Fest im Malerdorf ein Erfolg wird ist willkommen. Wer darüber hinaus in einer der verschiedenen Arbeitsgruppen mitarbeiten will kann hier Kontakt aufnehmen. \n\n\n\nFestausschuss 200 Jahre Künstlerkolonie am 3. Juli 2024
URL:https://willingshausen.info/termin/festausschuss-sitzung-16/
LOCATION:Gemeindehaus (Altes Pfarrhaus)\, Merzhäuser Str. 24\, Willingshausen\, 34628
CATEGORIES:Jubiläums-Vorbereitung
ATTACH;FMTTYPE=image/jpeg:https://willingshausen.info/wp-content/uploads/2023/02/Gemeindehaus-Sitemap.jpg
END:VEVENT
BEGIN:VEVENT
DTSTART;TZID=Europe/Berlin:20240919T190000
DTEND;TZID=Europe/Berlin:20240919T210000
DTSTAMP:20260425T191142
CREATED:20240828T210211Z
LAST-MODIFIED:20240915T173204Z
UID:10002027-1726772400-1726779600@willingshausen.info
SUMMARY:Bürgergespräch im Ortsteil Willingshausen
DESCRIPTION:Wir laden Sie herzlich zu einem Bürgergespräch mit dem Bürgermeister\, dem Vorsitzenden der Gemeindevertretung und dem Ortsbeirat ein und freuen uns über zahlreiches Erscheinen.  \n\n\n\nTagesordnung:– Begrüßung – Aktuelles aus der Gemeinde – Ortsteilbezogene Themen und Fragen – Verschiedenes
URL:https://willingshausen.info/termin/buergergespraech-im-ortsteil-willingshausen/
LOCATION:Gemeindehaus (Altes Pfarrhaus)\, Merzhäuser Str. 24\, Willingshausen\, 34628
CATEGORIES:Dorfgeschehen,Gemeinde
ATTACH;FMTTYPE=image/jpeg:https://willingshausen.info/wp-content/uploads/2023/02/Gemeindehaus-Sitemap.jpg
ORGANIZER;CN="Gro%C3%9Fgemeinde Willingshausen":MAILTO:info@willingshausen.de
END:VEVENT
BEGIN:VEVENT
DTSTART;TZID=Europe/Berlin:20240906T200000
DTEND;TZID=Europe/Berlin:20240906T220000
DTSTAMP:20260425T191142
CREATED:20240828T220515Z
LAST-MODIFIED:20240828T220825Z
UID:10002028-1725652800-1725660000@willingshausen.info
SUMMARY:„hör-mal im Denkmal“: Kleinkunstveranstaltung im Gemeindehaus Willingshausen
DESCRIPTION:In diesem Jahr findet im Gemeindehaus in Willingshausen (Altes Pfarrhaus) am Freitag\, dem 6. September 2024\, um 20:00 Uhr (Einlass ab 19:30 Uhr) eine besondere Kleinkunstveranstaltung statt. Der Mentalmagier Yann Yuro präsentiert sein neues Programm „OFFENBARUNG“. Der Europa- und Vizeweltmeister in Mentalmagie wird mit einem humorvollen Blick auf den Weltuntergang\, der Enthüllung von Geheimnissen und der Manipulation der Gedanken seines Publikums das Publikum auf phänomenale Weise unterhalten.  \n\n\n\nAnlässlich des „Denkmaltages“ präsentiert die Sparkassen-Kulturstiftung Hessen-Thüringen erneut ihre Reihe „hör-mal im Denkmal“\, die Kleinkunstveranstaltungen in ausgewählten Baudenkmalen in Hessen und Thüringen umfasst. „hör-mal im Denkmal“ hat sich als feste Größe im Kulturleben etabliert und verbindet Denkmalpflege mit der Förderung des Bewusstseins für den Umgang mit historischem Erbe.
URL:https://willingshausen.info/termin/hoer-mal-im-denkmal-kleinkunstveranstaltung-im-gemeindehaus-willingshausen/
LOCATION:Gemeindehaus (Altes Pfarrhaus)\, Merzhäuser Str. 24\, Willingshausen\, 34628
CATEGORIES:Kunst und Kultur
ATTACH;FMTTYPE=image/jpeg:https://willingshausen.info/wp-content/uploads/2023/02/Gemeindehaus-Sitemap-1.jpg
ORGANIZER;CN="Weltkulturhaus%2C Willingshausen Touristik Betriebsgesellschaft mbH (WTB)":MAILTO:info@weltkulturhaus.de
END:VEVENT
BEGIN:VEVENT
DTSTART;TZID=Europe/Berlin:20240828T200000
DTEND;TZID=Europe/Berlin:20240828T213000
DTSTAMP:20260425T191142
CREATED:20240821T070724Z
LAST-MODIFIED:20240821T070727Z
UID:10002025-1724875200-1724880600@willingshausen.info
SUMMARY:Ortsbeiratssitzung
DESCRIPTION:Die Tagesordnung:  \n\n\n\n\nBegrüßung und Feststellung der Beschlussfähigkeit\n\n\n\nNachbarschaftstreffen mit Vogelsberg und Marburg-Biedenkopf\n\n\n\nVerschiedenes\n\n\n\n\nDie Sitzung ist öffentlich.
URL:https://willingshausen.info/termin/ortsbeiratssitzung-9/
LOCATION:Gemeindehaus (Altes Pfarrhaus)\, Merzhäuser Str. 24\, Willingshausen\, 34628
CATEGORIES:Ortsbeirat
ATTACH;FMTTYPE=image/jpeg:https://willingshausen.info/wp-content/uploads/2023/02/Gemeindehaus-Sitemap.jpg
ORGANIZER;CN="Ortsbeirat Willingshausen":MAILTO:kontakt@willingshausen.info
END:VEVENT
BEGIN:VEVENT
DTSTART;TZID=Europe/Berlin:20240828T140000
DTEND;TZID=Europe/Berlin:20240828T160000
DTSTAMP:20260425T191142
CREATED:20240613T210950Z
LAST-MODIFIED:20240613T210953Z
UID:10001920-1724853600-1724860800@willingshausen.info
SUMMARY:Kaffeeklatsch mit der Pfarrerin
DESCRIPTION:
URL:https://willingshausen.info/termin/kaffeeklatsch-mit-der-pfarrerin-6/
LOCATION:Gemeindehaus (Altes Pfarrhaus)\, Merzhäuser Str. 24\, Willingshausen\, 34628
CATEGORIES:Kirche
ATTACH;FMTTYPE=image/jpeg:https://willingshausen.info/wp-content/uploads/2023/02/Gemeindehaus-Sitemap.jpg
ORGANIZER;CN="Evangelische Kirchengemeinde Merzhausen-Willingshausen":MAILTO:pfarramt.merzhausen@ekkw.de
END:VEVENT
BEGIN:VEVENT
DTSTART;TZID=Europe/Berlin:20240814T190000
DTEND;TZID=Europe/Berlin:20240814T210000
DTSTAMP:20260425T191142
CREATED:20240808T090258Z
LAST-MODIFIED:20240808T090316Z
UID:10001964-1723662000-1723669200@willingshausen.info
SUMMARY:Festausschuss-Sitzung
DESCRIPTION:© Förderverein 200 Jahre Künstlerkolonie Willingshausen e.V.\n\n\n\nVorbereitungstreffen für das Jubiläum „200 Jahre Künstlerkolonie Willingshausen“ im Jahr 2024. Der August 2024 ist nicht mehr weit entfernt\, gefühlt nähern wir uns ihm mit Riesenschritten.  \n\n\n\nDer Festausschuss\, eine für jeden offene Arbeitsgruppe\, trifft sich mindestens einmal im Monat im Gemeindehaus. Alle die etwas beitragen oder unser Jubiläum mitgestalten wollen sind dazu herzlich eingeladen. Jeder der sich einbringen will das das Fest im Malerdorf ein Erfolg wird ist willkommen. Wer darüber hinaus in einer der verschiedenen Arbeitsgruppen mitarbeiten will kann hier Kontakt aufnehmen. \n\n\n\nFestausschuss 200 Jahre Künstlerkolonie am 3. Juli 2024
URL:https://willingshausen.info/termin/festausschuss-sitzung-15/
LOCATION:Gemeindehaus (Altes Pfarrhaus)\, Merzhäuser Str. 24\, Willingshausen\, 34628
CATEGORIES:Jubiläums-Vorbereitung
ATTACH;FMTTYPE=image/jpeg:https://willingshausen.info/wp-content/uploads/2023/02/Gemeindehaus-Sitemap.jpg
END:VEVENT
BEGIN:VEVENT
DTSTART;TZID=Europe/Berlin:20240807T190000
DTEND;TZID=Europe/Berlin:20240807T210000
DTSTAMP:20260425T191142
CREATED:20240805T195806Z
LAST-MODIFIED:20240805T195817Z
UID:10001963-1723057200-1723064400@willingshausen.info
SUMMARY:Festausschuss-Sitzung
DESCRIPTION:© Förderverein 200 Jahre Künstlerkolonie Willingshausen e.V.\n\n\n\nVorbereitungstreffen für das Jubiläum „200 Jahre Künstlerkolonie Willingshausen“ im Jahr 2024. Der August 2024 ist nicht mehr weit entfernt\, gefühlt nähern wir uns ihm mit Riesenschritten.  \n\n\n\nDer Festausschuss\, eine für jeden offene Arbeitsgruppe\, trifft sich mindestens einmal im Monat im Gemeindehaus. Alle die etwas beitragen oder unser Jubiläum mitgestalten wollen sind dazu herzlich eingeladen. Jeder der sich einbringen will das das Fest im Malerdorf ein Erfolg wird ist willkommen. Wer darüber hinaus in einer der verschiedenen Arbeitsgruppen mitarbeiten will kann hier Kontakt aufnehmen. \n\n\n\nFestausschuss 200 Jahre Künstlerkolonie am 3. Juli 2024
URL:https://willingshausen.info/termin/festausschuss-sitzung-14/
LOCATION:Gemeindehaus (Altes Pfarrhaus)\, Merzhäuser Str. 24\, Willingshausen\, 34628
CATEGORIES:Jubiläums-Vorbereitung
ATTACH;FMTTYPE=image/jpeg:https://willingshausen.info/wp-content/uploads/2023/02/Gemeindehaus-Sitemap.jpg
END:VEVENT
BEGIN:VEVENT
DTSTART;TZID=Europe/Berlin:20240806T200000
DTEND;TZID=Europe/Berlin:20240806T220000
DTSTAMP:20260425T191142
CREATED:20240801T123844Z
LAST-MODIFIED:20240801T123847Z
UID:10001962-1722974400-1722981600@willingshausen.info
SUMMARY:Ortsbeiratssitzung
DESCRIPTION:Die Tagesordnung:  \n\n\n\n\nBegrüßung und Feststellung der Beschlussfähigkeit\n\n\n\nBegegnungsfest am 3. Oktober 2024 Drei-Herrn-Stein\n\n\n\nNahwärme\n\n\n\nVerschiedenes\n\n\n\n\nDie Sitzung ist öffentlich.
URL:https://willingshausen.info/termin/ortsbeiratssitzung-8/
LOCATION:Gemeindehaus (Altes Pfarrhaus)\, Merzhäuser Str. 24\, Willingshausen\, 34628
CATEGORIES:Ortsbeirat
ATTACH;FMTTYPE=image/jpeg:https://willingshausen.info/wp-content/uploads/2023/02/Gemeindehaus-Sitemap.jpg
ORGANIZER;CN="Ortsbeirat Willingshausen":MAILTO:kontakt@willingshausen.info
END:VEVENT
BEGIN:VEVENT
DTSTART;TZID=Europe/Berlin:20240731T190000
DTEND;TZID=Europe/Berlin:20240731T210000
DTSTAMP:20260425T191142
CREATED:20240724T195549Z
LAST-MODIFIED:20240724T200438Z
UID:10001959-1722452400-1722459600@willingshausen.info
SUMMARY:Festausschuss-Sitzung
DESCRIPTION:© Förderverein 200 Jahre Künstlerkolonie Willingshausen e.V.\n\n\n\nVorbereitungstreffen für das Jubiläum „200 Jahre Künstlerkolonie Willingshausen“ im Jahr 2024. Der Höhepunkt des Jubiläumsjahres im August 2024 ist nicht mehr weit entfernt\, gefühlt nähern wir uns ihm mit Riesenschritten. \n\n\n\nDer Festausschuss\, eine für jeden offene Arbeitsgruppe\, trifft sich mindestens einmal im Monat im Gemeindehaus. Alle die etwas beitragen oder unser Jubiläum mitgestalten wollen sind dazu herzlich eingeladen. Jeder der sich einbringen will das das Fest im Malerdorf ein Erfolg wird ist willkommen. Wer darüber hinaus in einer der verschiedenen Arbeitsgruppen mitarbeiten will kann hier Kontakt aufnehmen. \n\n\n\nFestausschuss 200 Jahre Künstlerkolonie am 3. Juli 2024
URL:https://willingshausen.info/termin/festausschuss-sitzung-13/
LOCATION:Gemeindehaus (Altes Pfarrhaus)\, Merzhäuser Str. 24\, Willingshausen\, 34628
CATEGORIES:Jubiläums-Vorbereitung
ATTACH;FMTTYPE=image/jpeg:https://willingshausen.info/wp-content/uploads/2023/02/Gemeindehaus-Sitemap.jpg
END:VEVENT
BEGIN:VEVENT
DTSTART;TZID=Europe/Berlin:20240724T190000
DTEND;TZID=Europe/Berlin:20240724T210000
DTSTAMP:20260425T191142
CREATED:20240703T192711Z
LAST-MODIFIED:20240704T204746Z
UID:10001931-1721847600-1721854800@willingshausen.info
SUMMARY:Festausschuss-Sitzung
DESCRIPTION:© Förderverein 200 Jahre Künstlerkolonie Willingshausen e.V.\n\n\n\nVorbereitungstreffen für das Jubiläum „200 Jahre Künstlerkolonie Willingshausen“ im Jahr 2024. Der August 2024 ist nicht mehr weit entfernt\, gefühlt nähern wir uns ihm mit Riesenschritten.  \n\n\n\nDer Festausschuss\, eine für jeden offene Arbeitsgruppe\, trifft sich mindestens einmal im Monat im Gemeindehaus. Alle die etwas beitragen oder unser Jubiläum mitgestalten wollen sind dazu herzlich eingeladen. Jeder der sich einbringen will das das Fest im Malerdorf ein Erfolg wird ist willkommen. Wer darüber hinaus in einer der verschiedenen Arbeitsgruppen mitarbeiten will kann hier Kontakt aufnehmen. \n\n\n\nFestausschuss 200 Jahre Künstlerkolonie am 3. Juli 2024
URL:https://willingshausen.info/termin/festausschuss-sitzung-12/
LOCATION:Gemeindehaus (Altes Pfarrhaus)\, Merzhäuser Str. 24\, Willingshausen\, 34628
CATEGORIES:Jubiläums-Vorbereitung
ATTACH;FMTTYPE=image/jpeg:https://willingshausen.info/wp-content/uploads/2023/02/Gemeindehaus-Sitemap.jpg
END:VEVENT
BEGIN:VEVENT
DTSTART;TZID=Europe/Berlin:20240703T190000
DTEND;TZID=Europe/Berlin:20240703T210000
DTSTAMP:20260425T191142
CREATED:20240605T201313Z
LAST-MODIFIED:20240605T201315Z
UID:10001894-1720033200-1720040400@willingshausen.info
SUMMARY:Festausschuss-Sitzung
DESCRIPTION:© Förderverein 200 Jahre Künstlerkolonie Willingshausen e.V.\n\n\n\nVorbereitungstreffen für das Jubiläum „200 Jahre Künstlerkolonie Willingshausen“ im Jahr 2024. Wer darüber hinaus in einer der verschiedenen Arbeitsgruppen mitarbeiten will kann hier Kontakt aufnehmen.
URL:https://willingshausen.info/termin/festausschuss-sitzung-11/
LOCATION:Gemeindehaus (Altes Pfarrhaus)\, Merzhäuser Str. 24\, Willingshausen\, 34628
CATEGORIES:Jubiläums-Vorbereitung
ATTACH;FMTTYPE=image/jpeg:https://willingshausen.info/wp-content/uploads/2023/02/Gemeindehaus-Sitemap.jpg
END:VEVENT
BEGIN:VEVENT
DTSTART;TZID=Europe/Berlin:20240605T190000
DTEND;TZID=Europe/Berlin:20240605T210000
DTSTAMP:20260425T191142
CREATED:20240514T205329Z
LAST-MODIFIED:20240514T205511Z
UID:10001890-1717614000-1717621200@willingshausen.info
SUMMARY:Festausschuss-Sitzung
DESCRIPTION:© Förderverein 200 Jahre Künstlerkolonie Willingshausen e.V.\n\n\n\nVorbereitungstreffen für das Jubiläum „200 Jahre Künstlerkolonie Willingshausen“ im Jahr 2024. Wer darüber hinaus in einer der verschiedenen Arbeitsgruppen mitarbeiten will kann hier Kontakt aufnehmen.
URL:https://willingshausen.info/termin/festausschuss-sitzung-10/
LOCATION:Gemeindehaus (Altes Pfarrhaus)\, Merzhäuser Str. 24\, Willingshausen\, 34628
CATEGORIES:Jubiläums-Vorbereitung
ATTACH;FMTTYPE=image/jpeg:https://willingshausen.info/wp-content/uploads/2023/02/Gemeindehaus-Sitemap.jpg
END:VEVENT
BEGIN:VEVENT
DTSTART;TZID=Europe/Berlin:20240529T143000
DTEND;TZID=Europe/Berlin:20240529T160000
DTSTAMP:20260425T191142
CREATED:20240206T152151Z
LAST-MODIFIED:20240206T160817Z
UID:10001793-1716993000-1716998400@willingshausen.info
SUMMARY:Kaffeeklatsch mit der Pfarrerin
DESCRIPTION:
URL:https://willingshausen.info/termin/kaffeeklatsch-mit-der-pfarrerin-3/
LOCATION:Gemeindehaus (Altes Pfarrhaus)\, Merzhäuser Str. 24\, Willingshausen\, 34628
CATEGORIES:Kirche
ATTACH;FMTTYPE=image/jpeg:https://willingshausen.info/wp-content/uploads/2023/02/Gemeindehaus-Sitemap.jpg
ORGANIZER;CN="Evangelische Kirchengemeinde Merzhausen-Willingshausen":MAILTO:pfarramt.merzhausen@ekkw.de
END:VEVENT
BEGIN:VEVENT
DTSTART;TZID=Europe/Berlin:20240522T200000
DTEND;TZID=Europe/Berlin:20240522T220000
DTSTAMP:20260425T191142
CREATED:20240516T152400Z
LAST-MODIFIED:20240516T152508Z
UID:10001892-1716408000-1716415200@willingshausen.info
SUMMARY:Ortsbeiratssitzung
DESCRIPTION:Die Tagesordnung:  \n\n\n\n\nBegrüßung und Feststellung der Beschlussfähigkeit \n\n\n\nGeschwindigskeitsreduzierung in der Merzhäuser Straße auf 30 km/h \n\n\n\nMalerweg \n\n\n\nHaushaltsvorschläge \n\n\n\nSachstände \n\n\n\nVerschiedenes \n\n\n\n\nDie Sitzung ist öffentlich.
URL:https://willingshausen.info/termin/ortsbeiratssitzung-7/
LOCATION:Gemeindehaus (Altes Pfarrhaus)\, Merzhäuser Str. 24\, Willingshausen\, 34628
CATEGORIES:Ortsbeirat
ATTACH;FMTTYPE=image/jpeg:https://willingshausen.info/wp-content/uploads/2023/02/Gemeindehaus-Sitemap.jpg
ORGANIZER;CN="Ortsbeirat Willingshausen":MAILTO:kontakt@willingshausen.info
END:VEVENT
BEGIN:VEVENT
DTSTART;TZID=Europe/Berlin:20240514T190000
DTEND;TZID=Europe/Berlin:20240514T210000
DTSTAMP:20260425T191142
CREATED:20231112T125205Z
LAST-MODIFIED:20240506T120245Z
UID:10001392-1715713200-1715720400@willingshausen.info
SUMMARY:Festausschuss-Sitzung
DESCRIPTION:© Förderverein 200 Jahre Künstlerkolonie Willingshausen e.V.\n\n\n\nVorbereitungstreffen für das Jubiläum „200 Jahre Künstlerkolonie Willingshausen“ im Jahr 2024. Wer darüber hinaus in einer der verschiedenen Arbeitsgruppen mitarbeiten will kann hier Kontakt aufnehmen.
URL:https://willingshausen.info/termin/festausschuss-sitzung-8/
LOCATION:Gemeindehaus (Altes Pfarrhaus)\, Merzhäuser Str. 24\, Willingshausen\, 34628
CATEGORIES:Jubiläums-Vorbereitung
ATTACH;FMTTYPE=image/jpeg:https://willingshausen.info/wp-content/uploads/2023/02/Gemeindehaus-Sitemap.jpg
END:VEVENT
BEGIN:VEVENT
DTSTART;TZID=Europe/Berlin:20240424T143000
DTEND;TZID=Europe/Berlin:20240424T160000
DTSTAMP:20260425T191142
CREATED:20240206T151906Z
LAST-MODIFIED:20240206T160726Z
UID:10001792-1713969000-1713974400@willingshausen.info
SUMMARY:Kaffeeklatsch mit der Pfarrerin
DESCRIPTION:
URL:https://willingshausen.info/termin/kaffeeklatsch-mit-der-pfarrerin-2/
LOCATION:Gemeindehaus (Altes Pfarrhaus)\, Merzhäuser Str. 24\, Willingshausen\, 34628
CATEGORIES:Kirche
ATTACH;FMTTYPE=image/jpeg:https://willingshausen.info/wp-content/uploads/2023/02/Gemeindehaus-Sitemap.jpg
ORGANIZER;CN="Evangelische Kirchengemeinde Merzhausen-Willingshausen":MAILTO:pfarramt.merzhausen@ekkw.de
END:VEVENT
BEGIN:VEVENT
DTSTART;TZID=Europe/Berlin:20240328T143000
DTEND;TZID=Europe/Berlin:20240328T160000
DTSTAMP:20260425T191142
CREATED:20240206T151749Z
LAST-MODIFIED:20240206T151751Z
UID:10001791-1711636200-1711641600@willingshausen.info
SUMMARY:Kaffeeklatsch mit der Pfarrerin
DESCRIPTION:
URL:https://willingshausen.info/termin/kaffeeklatsch-mit-der-pfarrerin/
LOCATION:Gemeindehaus (Altes Pfarrhaus)\, Merzhäuser Str. 24\, Willingshausen\, 34628
CATEGORIES:Kirche
ATTACH;FMTTYPE=image/jpeg:https://willingshausen.info/wp-content/uploads/2023/02/Gemeindehaus-Sitemap-1.jpg
ORGANIZER;CN="Evangelische Kirchengemeinde Merzhausen-Willingshausen":MAILTO:pfarramt.merzhausen@ekkw.de
END:VEVENT
BEGIN:VEVENT
DTSTART;TZID=Europe/Berlin:20240327T200000
DTEND;TZID=Europe/Berlin:20240327T220000
DTSTAMP:20260425T191142
CREATED:20240324T105053Z
LAST-MODIFIED:20240324T105219Z
UID:10001811-1711569600-1711576800@willingshausen.info
SUMMARY:Ortsbeiratssitzung
DESCRIPTION:Die Tagesordnung:  \n\n\n\n\nBegrüßung und Feststellung der Beschlussfähigkeit\n\n\n\nProtokoll der vergangenen Sitzungen\n\n\n\nSicherheitskonzept 200 Jahre Malerkolonie\n\n\n\nGemeindebücherei\n\n\n\nAbleitung des Oberflächenwassers aus der Feldflur westlich der Friedrich-Steinmeyer-Straße\n\n\n\nVerschiedenes\n\n\n\n\nDie Sitzung ist öffentlich.
URL:https://willingshausen.info/termin/ortsbeiratssitzung-6/
LOCATION:Gemeindehaus (Altes Pfarrhaus)\, Merzhäuser Str. 24\, Willingshausen\, 34628
CATEGORIES:Ortsbeirat
ATTACH;FMTTYPE=image/jpeg:https://willingshausen.info/wp-content/uploads/2023/02/Gemeindehaus-Sitemap-1.jpg
ORGANIZER;CN="Ortsbeirat Willingshausen":MAILTO:kontakt@willingshausen.info
END:VEVENT
BEGIN:VEVENT
DTSTART;TZID=Europe/Berlin:20240308T193000
DTEND;TZID=Europe/Berlin:20240308T213000
DTSTAMP:20260425T191142
CREATED:20231113T140419Z
LAST-MODIFIED:20240112T173612Z
UID:10001393-1709926200-1709933400@willingshausen.info
SUMMARY:Jahreshauptversammlung Förderverein Altes Pfarrhaus e.V.
DESCRIPTION:Jahreshauptversammlung Förderverein Altes Pfarrhaus e.V.
URL:https://willingshausen.info/termin/jahreshauptversammlung-foerderverein-altes-pfarrhaus-e-v/
LOCATION:Gemeindehaus (Altes Pfarrhaus)\, Merzhäuser Str. 24\, Willingshausen\, 34628
CATEGORIES:Vereine
ATTACH;FMTTYPE=image/jpeg:https://willingshausen.info/wp-content/uploads/2023/02/Gemeindehaus-Sitemap-1.jpg
END:VEVENT
BEGIN:VEVENT
DTSTART;TZID=Europe/Berlin:20240302T163000
DTEND;TZID=Europe/Berlin:20240302T183000
DTSTAMP:20260425T191142
CREATED:20240206T153753Z
LAST-MODIFIED:20240206T153755Z
UID:10001796-1709397000-1709404200@willingshausen.info
SUMMARY:Superheldenparty (Kirchenkids)
DESCRIPTION:Für alle Kinder von 9-13 Jahre. Wenn die Kinder mögen können sie sich gern verkleiden. Anmeldung gern an: pfarramt.merzhausen@ekkw.de  \n\n\n\nSuperhelden-Party Kirchenkids
URL:https://willingshausen.info/termin/superheldenparty-kirchenkids/
LOCATION:Gemeindehaus (Altes Pfarrhaus)\, Merzhäuser Str. 24\, Willingshausen\, 34628
CATEGORIES:Kirche
ATTACH;FMTTYPE=image/png:https://willingshausen.info/wp-content/uploads/2024/02/SuperheldenParty-Kirchenkidsi-kl.png
ORGANIZER;CN="Evangelische Kirchengemeinde Merzhausen-Willingshausen":MAILTO:pfarramt.merzhausen@ekkw.de
END:VEVENT
END:VCALENDAR