BEGIN:VCALENDAR
VERSION:2.0
PRODID:-//Willingshausen (Ortsteil) - ECPv6.15.20//NONSGML v1.0//EN
CALSCALE:GREGORIAN
METHOD:PUBLISH
X-ORIGINAL-URL:https://willingshausen.info
X-WR-CALDESC:Veranstaltungen für Willingshausen (Ortsteil)
REFRESH-INTERVAL;VALUE=DURATION:PT1H
X-Robots-Tag:noindex
X-PUBLISHED-TTL:PT1H
BEGIN:VTIMEZONE
TZID:Europe/Berlin
BEGIN:DAYLIGHT
TZOFFSETFROM:+0100
TZOFFSETTO:+0200
TZNAME:CEST
DTSTART:20230326T010000
END:DAYLIGHT
BEGIN:STANDARD
TZOFFSETFROM:+0200
TZOFFSETTO:+0100
TZNAME:CET
DTSTART:20231029T010000
END:STANDARD
BEGIN:DAYLIGHT
TZOFFSETFROM:+0100
TZOFFSETTO:+0200
TZNAME:CEST
DTSTART:20240331T010000
END:DAYLIGHT
BEGIN:STANDARD
TZOFFSETFROM:+0200
TZOFFSETTO:+0100
TZNAME:CET
DTSTART:20241027T010000
END:STANDARD
BEGIN:DAYLIGHT
TZOFFSETFROM:+0100
TZOFFSETTO:+0200
TZNAME:CEST
DTSTART:20250330T010000
END:DAYLIGHT
BEGIN:STANDARD
TZOFFSETFROM:+0200
TZOFFSETTO:+0100
TZNAME:CET
DTSTART:20251026T010000
END:STANDARD
END:VTIMEZONE
BEGIN:VEVENT
DTSTART;TZID=Europe/Berlin:20240630T180000
DTEND;TZID=Europe/Berlin:20240630T200000
DTSTAMP:20260424T120612
CREATED:20240618T171329Z
LAST-MODIFIED:20240618T171555Z
UID:10001927-1719770400-1719777600@willingshausen.info
SUMMARY:Konzert: Liebe und andere Krankheiten
DESCRIPTION:Erlebt einen feinen und facettenreichen Musikabend\, an dem wir der Liebe mit all‘ den Höhen und Tiefen nachgehen. Von „Je t’aime“ bis „Moi non plus!“.Andreas Olbrich und Thomas Hof singen und spielen sich durch zeitlose und neue Liebeslieder von Element of Crime\, Bill Withers\, Gerhard Gundermann. Damit es nicht zu melancholisch wird\, dürfen Udo Jürgens\, Die Puhdys und natürlich Marianne Rosenberg nicht fehlen. Und Klaus Lage und Johnny Cash passen auf\, dass die Liebe immer eine neue Keimzeit erfährt. Auch nach 1001 Nacht. \n\n\n\nKonzert: Liebe und andere Krankheiten
URL:https://willingshausen.info/termin/konzert-liebe-und-andere-krankheiten/
LOCATION:Evangelische Kirche Merzhausen\, Ziegenhainer Straße 26\, Willingshausen\, 34628\, Deutschland
CATEGORIES:Kunst und Kultur
ATTACH;FMTTYPE=image/png:https://willingshausen.info/wp-content/uploads/2024/06/Konzert_Liebe_.png
ORGANIZER;CN="Evangelische Kirchengemeinde Merzhausen-Willingshausen":MAILTO:pfarramt.merzhausen@ekkw.de
END:VEVENT
END:VCALENDAR