BEGIN:VCALENDAR
VERSION:2.0
PRODID:-//Willingshausen (Ortsteil) - ECPv6.15.20//NONSGML v1.0//EN
CALSCALE:GREGORIAN
METHOD:PUBLISH
X-ORIGINAL-URL:https://willingshausen.info
X-WR-CALDESC:Veranstaltungen für Willingshausen (Ortsteil)
REFRESH-INTERVAL;VALUE=DURATION:PT1H
X-Robots-Tag:noindex
X-PUBLISHED-TTL:PT1H
BEGIN:VTIMEZONE
TZID:Europe/Berlin
BEGIN:DAYLIGHT
TZOFFSETFROM:+0100
TZOFFSETTO:+0200
TZNAME:CEST
DTSTART:20230326T010000
END:DAYLIGHT
BEGIN:STANDARD
TZOFFSETFROM:+0200
TZOFFSETTO:+0100
TZNAME:CET
DTSTART:20231029T010000
END:STANDARD
BEGIN:DAYLIGHT
TZOFFSETFROM:+0100
TZOFFSETTO:+0200
TZNAME:CEST
DTSTART:20240331T010000
END:DAYLIGHT
BEGIN:STANDARD
TZOFFSETFROM:+0200
TZOFFSETTO:+0100
TZNAME:CET
DTSTART:20241027T010000
END:STANDARD
BEGIN:DAYLIGHT
TZOFFSETFROM:+0100
TZOFFSETTO:+0200
TZNAME:CEST
DTSTART:20250330T010000
END:DAYLIGHT
BEGIN:STANDARD
TZOFFSETFROM:+0200
TZOFFSETTO:+0100
TZNAME:CET
DTSTART:20251026T010000
END:STANDARD
END:VTIMEZONE
BEGIN:VEVENT
DTSTART;TZID=Europe/Berlin:20240428T100000
DTEND;TZID=Europe/Berlin:20240428T160000
DTSTAMP:20260423T235419
CREATED:20240310T223514Z
LAST-MODIFIED:20240310T223659Z
UID:10001802-1714298400-1714320000@willingshausen.info
SUMMARY:Steinbildhauerkurs
DESCRIPTION:drei Tage\, 26. April 2024\, 18:00 Uhr bis 28. April 2024\, 16:00 Uhr
URL:https://willingshausen.info/termin/steinbildhauerkurs-2/2024-04-28/
LOCATION:Rangs Hof\, Merzhäuser Straße 2\, Willingshausen\, 34628\, Deutschland
CATEGORIES:Kunst und Kultur
END:VEVENT
END:VCALENDAR