BEGIN:VCALENDAR
VERSION:2.0
PRODID:-//Willingshausen (Ortsteil) - ECPv6.15.20//NONSGML v1.0//EN
CALSCALE:GREGORIAN
METHOD:PUBLISH
X-ORIGINAL-URL:https://willingshausen.info
X-WR-CALDESC:Veranstaltungen für Willingshausen (Ortsteil)
REFRESH-INTERVAL;VALUE=DURATION:PT1H
X-Robots-Tag:noindex
X-PUBLISHED-TTL:PT1H
BEGIN:VTIMEZONE
TZID:Europe/Berlin
BEGIN:DAYLIGHT
TZOFFSETFROM:+0100
TZOFFSETTO:+0200
TZNAME:CEST
DTSTART:20220327T010000
END:DAYLIGHT
BEGIN:STANDARD
TZOFFSETFROM:+0200
TZOFFSETTO:+0100
TZNAME:CET
DTSTART:20221030T010000
END:STANDARD
BEGIN:DAYLIGHT
TZOFFSETFROM:+0100
TZOFFSETTO:+0200
TZNAME:CEST
DTSTART:20230326T010000
END:DAYLIGHT
BEGIN:STANDARD
TZOFFSETFROM:+0200
TZOFFSETTO:+0100
TZNAME:CET
DTSTART:20231029T010000
END:STANDARD
BEGIN:DAYLIGHT
TZOFFSETFROM:+0100
TZOFFSETTO:+0200
TZNAME:CEST
DTSTART:20240331T010000
END:DAYLIGHT
BEGIN:STANDARD
TZOFFSETFROM:+0200
TZOFFSETTO:+0100
TZNAME:CET
DTSTART:20241027T010000
END:STANDARD
BEGIN:DAYLIGHT
TZOFFSETFROM:+0100
TZOFFSETTO:+0200
TZNAME:CEST
DTSTART:20250330T010000
END:DAYLIGHT
BEGIN:STANDARD
TZOFFSETFROM:+0200
TZOFFSETTO:+0100
TZNAME:CET
DTSTART:20251026T010000
END:STANDARD
END:VTIMEZONE
BEGIN:VEVENT
DTSTART;TZID=Europe/Berlin:20240330T180000
DTEND;TZID=Europe/Berlin:20240330T220000
DTSTAMP:20260423T174900
CREATED:20240316T163045Z
LAST-MODIFIED:20240320T222152Z
UID:10001808-1711821600-1711836000@willingshausen.info
SUMMARY:Dämmerschoppen
DESCRIPTION:Dämmerschoppen der Freiwilligen Feuerwehr Willingshausen.  \n\n\n\nDer Förderverein „200 Jahre Künstlerkolonie Willingshausen e.V.“ wird im Rahmen dieser Veranstaltung die neue Beleuchtung des Dorfplatzes einweihen.  \n\n\n\n2024-03-30\, Dämmerschoppen der Freiwilligen Feuerwehr Willingshausen
URL:https://willingshausen.info/termin/daemmerschoppen/
LOCATION:Dorfplatz\, Wasenberger Straße 3\, Willingshausen\, 34628
CATEGORIES:Dorfgemeinschaft,Dorfgeschehen
ATTACH;FMTTYPE=image/jpeg:https://willingshausen.info/wp-content/uploads/2023/06/Dorfplatz-Willingshausen.jpg
GEO:50,8503874;9,1951975
X-APPLE-STRUCTURED-LOCATION;VALUE=URI;X-ADDRESS=Dorfplatz Wasenberger Straße 3 Willingshausen 34628;X-APPLE-RADIUS=500;X-TITLE=Wasenberger Straße 3:geo:9,1951975,50,8503874
END:VEVENT
BEGIN:VEVENT
DTSTART;TZID=Europe/Berlin:20240113T200000
DTEND;TZID=Europe/Berlin:20240113T220000
DTSTAMP:20260423T174900
CREATED:20231025T122521Z
LAST-MODIFIED:20231110T104441Z
UID:10001338-1705176000-1705183200@willingshausen.info
SUMMARY:Jahreshauptversammlung
DESCRIPTION:Jahreshauptversammlung der Freiwilligen Feuerwehr Willingshausen.
URL:https://willingshausen.info/termin/jahreshauptversammlung/
CATEGORIES:Vereine
ATTACH;FMTTYPE=image/webp:https://willingshausen.info/wp-content/uploads/2023/02/Wappen-Feuerwehr-Willingshausen-281x300-1.webp
END:VEVENT
BEGIN:VEVENT
DTSTART;TZID=Europe/Berlin:20240113T090000
DTEND;TZID=Europe/Berlin:20240113T120000
DTSTAMP:20260423T174900
CREATED:20240103T145125Z
LAST-MODIFIED:20240113T221914Z
UID:10001406-1705136400-1705147200@willingshausen.info
SUMMARY:Weihnachtsbaum Sammelaktion
DESCRIPTION:Weihnachtsbaum Sammelaktion der Freiwilligen Feuerwehr Willingshausen.Ab ca. 12:00 Uhr „Baum verbrennen“ am Sportplatz für jedermann mit Essen und Trinken. \n\n\n\n2024\, Weihnachtsbaum Sammelaktion der Freiwilligen Feuerwehr Willingshausen im Dorf
URL:https://willingshausen.info/termin/weihnachtsbaum-sammelaktion/
CATEGORIES:Dorfgemeinschaft,Vereine
ATTACH;FMTTYPE=image/webp:https://willingshausen.info/wp-content/uploads/2024/01/Wappen-Feuerwehr-Willingshausen-281x300-kl-e1705184909550.webp
END:VEVENT
BEGIN:VEVENT
DTSTART;TZID=Europe/Berlin:20231021T203000
DTEND;TZID=Europe/Berlin:20231021T235900
DTSTAMP:20260423T174900
CREATED:20230715T152934Z
LAST-MODIFIED:20231016T203434Z
UID:10001298-1697920200-1697932740@willingshausen.info
SUMMARY:Christian Bergmann und die Nordhessen Drei - Johnny Cash Tribute
DESCRIPTION:Christian Bergmann und die Nordhessen Drei\n\n\n\n\n\nNach dem großen Erfolg im letzten Jahr geht die Veranstaltung in die zweite Runde.Christian Bergmann und die Nordhessen Drei \n\n\n\n\nEintrittim Vorverkauf15\,00€\n\n\n\nEintrittan der Abendkasse20\,00€
URL:https://willingshausen.info/termin/christian-bergmann-und-die-nordhessen-drei-johnny-cash-tribute/
LOCATION:Antreffhalle Willingshausen\, Brüder Grimm Straße\, Willingshausen\, 34628\, Deutschland
CATEGORIES:Kunst und Kultur
ATTACH;FMTTYPE=image/jpeg:https://willingshausen.info/wp-content/uploads/2023/07/Christian-Bergmann.jpg
END:VEVENT
BEGIN:VEVENT
DTSTART;TZID=Europe/Berlin:20230902T110000
DTEND;TZID=Europe/Berlin:20230902T220000
DTSTAMP:20260423T174900
CREATED:20230814T183932Z
LAST-MODIFIED:20230814T191445Z
UID:10001319-1693652400-1693692000@willingshausen.info
SUMMARY:Die Feuerwehr Willingshausen stellt sich vor
DESCRIPTION:Freiwillige Feuerwehr Willingshausen\, Tag er offenen Tür 2023\n\n\n\nZum Tag der offenen Tür laden die Kameradinnen und Kameraden der Freiwilligen Feuerwehr Willingshausen am Samstag\, dem 02.09.2023 alle Bürger Willingshausen und der umliegenden Orte und Gemeinden herzlich ein. Mehr dazu hier:
URL:https://willingshausen.info/termin/die-feuerwehr-willingshausen-stellt-sich-vor/
LOCATION:Feuerwehrgerätehaus\, Alsfelder Str. 11\, Willingshausen\, 34628\, Deutschland
CATEGORIES:Dorfgeschehen,Vereine
ATTACH;FMTTYPE=image/webp:https://willingshausen.info/wp-content/uploads/2023/02/Wappen-Feuerwehr-Willingshausen-281x300-1.webp
END:VEVENT
BEGIN:VEVENT
DTSTART;TZID=Europe/Berlin:20230430T190000
DTEND;TZID=Europe/Berlin:20230430T233000
DTSTAMP:20260423T174900
CREATED:20230420T210651Z
LAST-MODIFIED:20230420T211051Z
UID:10000320-1682881200-1682897400@willingshausen.info
SUMMARY:Maifeuer 2023
DESCRIPTION:Freiwillige Feuerwehr Willingshausen \n\n\n\nMaifeuer 2023\, Freiwillige Feuerwehr Willingshausen
URL:https://willingshausen.info/termin/maifeuer/
LOCATION:Feuerwehr Gerätehaus\, Alsfelder Strasse 11\, Willingshausen\, 34628\, Deutschland
CATEGORIES:Dorfgemeinschaft,Vereine
END:VEVENT
END:VCALENDAR