BEGIN:VCALENDAR
VERSION:2.0
PRODID:-//Willingshausen (Ortsteil) - ECPv6.15.20//NONSGML v1.0//EN
CALSCALE:GREGORIAN
METHOD:PUBLISH
X-ORIGINAL-URL:https://willingshausen.info
X-WR-CALDESC:Veranstaltungen für Willingshausen (Ortsteil)
REFRESH-INTERVAL;VALUE=DURATION:PT1H
X-Robots-Tag:noindex
X-PUBLISHED-TTL:PT1H
BEGIN:VTIMEZONE
TZID:Europe/Berlin
BEGIN:DAYLIGHT
TZOFFSETFROM:+0100
TZOFFSETTO:+0200
TZNAME:CEST
DTSTART:20230326T010000
END:DAYLIGHT
BEGIN:STANDARD
TZOFFSETFROM:+0200
TZOFFSETTO:+0100
TZNAME:CET
DTSTART:20231029T010000
END:STANDARD
BEGIN:DAYLIGHT
TZOFFSETFROM:+0100
TZOFFSETTO:+0200
TZNAME:CEST
DTSTART:20240331T010000
END:DAYLIGHT
BEGIN:STANDARD
TZOFFSETFROM:+0200
TZOFFSETTO:+0100
TZNAME:CET
DTSTART:20241027T010000
END:STANDARD
BEGIN:DAYLIGHT
TZOFFSETFROM:+0100
TZOFFSETTO:+0200
TZNAME:CEST
DTSTART:20250330T010000
END:DAYLIGHT
BEGIN:STANDARD
TZOFFSETFROM:+0200
TZOFFSETTO:+0100
TZNAME:CET
DTSTART:20251026T010000
END:STANDARD
END:VTIMEZONE
BEGIN:VEVENT
DTSTART;TZID=Europe/Berlin:20240810T180000
DTEND;TZID=Europe/Berlin:20240810T233000
DTSTAMP:20260419T143644
CREATED:20231010T194604Z
LAST-MODIFIED:20240808T123552Z
UID:10001333-1723312800-1723332600@willingshausen.info
SUMMARY:Schwälmer Modenschau\, Ausverkauft
DESCRIPTION:200 Jahre Künstlerkolonie Willingshausen\n\n\n\n\n\nGezeigt wird der Wandel in der Schwälmer Tracht über die vergangenen zwei Jahrhunderte. Ein exklusives\, bisher nie dagewesenes Highlight für Trachten-Fans. Im Anschluss an die Veranstaltung (voraussichtlich gegen 20:30 Uhr) Weinabend und Piano-Bar mit freiem Eintritt. \n\n\n\n\n\n\n\n2024 – Schwälmer Trachten-Modenschau\n\n\n\n2024 – Schwälmer Modenschau in Willingshausen\n\n\n\n\n\nin Kooperation mit
URL:https://willingshausen.info/termin/schwaelmer-modenschau/
LOCATION:Schlosspark Willingshausen\, Merzhäuser Straße 9\, Willingshausen\, Hessen\, 34628\, Deutschland
CATEGORIES:Kunst und Kultur
ATTACH;FMTTYPE=image/jpeg:https://willingshausen.info/wp-content/uploads/2024/04/2024-IMG_8258-Juergen-Gemmerich-2.jpg
ORGANIZER;CN="Evangelische Kirchengemeinde Merzhausen-Willingshausen":MAILTO:pfarramt.merzhausen@ekkw.de
END:VEVENT
BEGIN:VEVENT
DTSTART;TZID=Europe/Berlin:20240717T190000
DTEND;TZID=Europe/Berlin:20240717T220000
DTSTAMP:20260419T143644
CREATED:20240715T202123Z
LAST-MODIFIED:20260127T104755Z
UID:10001958-1721242800-1721253600@willingshausen.info
SUMMARY:230. Geburtstag von Gerhardt von Reutern
DESCRIPTION:Wir treffen uns um 19 Uhr am Reuternhaus und gehen gemeinsam an den Zaunkünstler:innen entlang zum Schlossgarten. Im Schlossgarten Begrüßung durch Dominic von Schwertzell und den Vorstand des „Förderverein 200 Jahre Künstlerkolonie Willingshausen“. Es folgt die Gedenkbaumpflanzung im Garten. Anschließend Im Hof des Gerhardt-vom-Reutern Hauses ein Vortrag von Prof. Dr. Michael von Reutern und Dr. Bernhard Lauer von der Grimm Gesellschaft. Zum Ausklang gemütliches Beisammensein. \n\n\n\nPflanzen einer Winterlinde im Schlosspark Willingshausen zum 230. Geburtstag Gerhardt von Reuterns
URL:https://willingshausen.info/termin/gedenkbaumpflanzung-zum-230-geburtstag-von-gerhardt-von-reutern/
LOCATION:Weltkulturhaus (Gerhardt-von-Reutern-Haus)\, Merzhäuser Straße 1\, Willingshausen\, 34628\, Deutschland
CATEGORIES:Kunst und Kultur
ORGANIZER;CN="F%C3%B6rderverein 200 Jahre K%C3%BCnstlerkolonie Willingshausen":MAILTO:foerderverein-200-jahre-kuenstlerkolonie@gmx.de
END:VEVENT
BEGIN:VEVENT
DTSTART;TZID=Europe/Berlin:20240216T190000
DTEND;TZID=Europe/Berlin:20240216T210000
DTSTAMP:20260419T143644
CREATED:20240113T145750Z
LAST-MODIFIED:20240113T145957Z
UID:10001783-1708110000-1708117200@willingshausen.info
SUMMARY:Jahreshauptversammlung Förderverein 200 Jahre Künstlerkolonie
DESCRIPTION:
URL:https://willingshausen.info/termin/jahreshauptversammlung-foerderverein-200-jahre-kuenstlerkolonie/
LOCATION:Gemeindehaus (Altes Pfarrhaus)\, Merzhäuser Str. 24\, Willingshausen\, 34628
CATEGORIES:Vereine
ATTACH;FMTTYPE=image/jpeg:https://willingshausen.info/wp-content/uploads/2023/05/Banner-2024-250-x75-340.jpg
ORGANIZER;CN="F%C3%B6rderverein 200 Jahre K%C3%BCnstlerkolonie Willingshausen":MAILTO:foerderverein-200-jahre-kuenstlerkolonie@gmx.de
END:VEVENT
END:VCALENDAR