BEGIN:VCALENDAR
VERSION:2.0
PRODID:-//Willingshausen (Ortsteil) - ECPv6.15.20//NONSGML v1.0//EN
CALSCALE:GREGORIAN
METHOD:PUBLISH
X-ORIGINAL-URL:https://willingshausen.info
X-WR-CALDESC:Veranstaltungen für Willingshausen (Ortsteil)
REFRESH-INTERVAL;VALUE=DURATION:PT1H
X-Robots-Tag:noindex
X-PUBLISHED-TTL:PT1H
BEGIN:VTIMEZONE
TZID:Europe/Berlin
BEGIN:DAYLIGHT
TZOFFSETFROM:+0100
TZOFFSETTO:+0200
TZNAME:CEST
DTSTART:20220327T010000
END:DAYLIGHT
BEGIN:STANDARD
TZOFFSETFROM:+0200
TZOFFSETTO:+0100
TZNAME:CET
DTSTART:20221030T010000
END:STANDARD
BEGIN:DAYLIGHT
TZOFFSETFROM:+0100
TZOFFSETTO:+0200
TZNAME:CEST
DTSTART:20230326T010000
END:DAYLIGHT
BEGIN:STANDARD
TZOFFSETFROM:+0200
TZOFFSETTO:+0100
TZNAME:CET
DTSTART:20231029T010000
END:STANDARD
BEGIN:DAYLIGHT
TZOFFSETFROM:+0100
TZOFFSETTO:+0200
TZNAME:CEST
DTSTART:20240331T010000
END:DAYLIGHT
BEGIN:STANDARD
TZOFFSETFROM:+0200
TZOFFSETTO:+0100
TZNAME:CET
DTSTART:20241027T010000
END:STANDARD
END:VTIMEZONE
BEGIN:VEVENT
DTSTART;TZID=Europe/Berlin:20231014T170000
DTEND;TZID=Europe/Berlin:20231014T190000
DTSTAMP:20260423T141919
CREATED:20231010T191637Z
LAST-MODIFIED:20231010T191844Z
UID:10001331-1697302800-1697310000@willingshausen.info
SUMMARY:Lagerfeuergottesdienst
DESCRIPTION:Ein Gottesdienst mit Lagerfeuermusik\, Aktionen\, Stockbrot \n\n\n\nEv. Gemeindehaus Willingshausen – Lagerfeuergottesdienst am Gemeindehaus Willingshausen
URL:https://willingshausen.info/termin/lagerfeuergottesdienst/
LOCATION:Gemeindehaus (Altes Pfarrhaus)\, Merzhäuser Str. 24\, Willingshausen\, 34628
CATEGORIES:Kirche
ATTACH;FMTTYPE=image/jpeg:https://willingshausen.info/wp-content/uploads/2023/02/Gemeindehaus-Sitemap-1.jpg
ORGANIZER;CN="Evangelische Kirchengemeinde Merzhausen-Willingshausen":MAILTO:pfarramt.merzhausen@ekkw.de
END:VEVENT
BEGIN:VEVENT
DTSTART;TZID=Europe/Berlin:20230514T100000
DTEND;TZID=Europe/Berlin:20230514T130000
DTSTAMP:20260423T141919
CREATED:20230313T213930Z
LAST-MODIFIED:20230313T214205Z
UID:10000217-1684058400-1684069200@willingshausen.info
SUMMARY:Goldene Konfirmation
DESCRIPTION:
URL:https://willingshausen.info/termin/goldene-konfirmation/
LOCATION:Evangelische Kirche Willingshausen\, Merzhäuser Straße 17\, Willingshausen\, 34628\, Deutschland
CATEGORIES:Kirche
ORGANIZER;CN="Evangelische Kirchengemeinde Merzhausen-Willingshausen":MAILTO:pfarramt.merzhausen@ekkw.de
END:VEVENT
END:VCALENDAR