BEGIN:VCALENDAR
VERSION:2.0
PRODID:-//Willingshausen (Ortsteil) - ECPv6.15.20//NONSGML v1.0//EN
CALSCALE:GREGORIAN
METHOD:PUBLISH
X-ORIGINAL-URL:https://willingshausen.info
X-WR-CALDESC:Veranstaltungen für Willingshausen (Ortsteil)
REFRESH-INTERVAL;VALUE=DURATION:PT1H
X-Robots-Tag:noindex
X-PUBLISHED-TTL:PT1H
BEGIN:VTIMEZONE
TZID:Europe/Berlin
BEGIN:DAYLIGHT
TZOFFSETFROM:+0100
TZOFFSETTO:+0200
TZNAME:CEST
DTSTART:20220327T010000
END:DAYLIGHT
BEGIN:STANDARD
TZOFFSETFROM:+0200
TZOFFSETTO:+0100
TZNAME:CET
DTSTART:20221030T010000
END:STANDARD
BEGIN:DAYLIGHT
TZOFFSETFROM:+0100
TZOFFSETTO:+0200
TZNAME:CEST
DTSTART:20230326T010000
END:DAYLIGHT
BEGIN:STANDARD
TZOFFSETFROM:+0200
TZOFFSETTO:+0100
TZNAME:CET
DTSTART:20231029T010000
END:STANDARD
BEGIN:DAYLIGHT
TZOFFSETFROM:+0100
TZOFFSETTO:+0200
TZNAME:CEST
DTSTART:20240331T010000
END:DAYLIGHT
BEGIN:STANDARD
TZOFFSETFROM:+0200
TZOFFSETTO:+0100
TZNAME:CET
DTSTART:20241027T010000
END:STANDARD
BEGIN:DAYLIGHT
TZOFFSETFROM:+0100
TZOFFSETTO:+0200
TZNAME:CEST
DTSTART:20250330T010000
END:DAYLIGHT
BEGIN:STANDARD
TZOFFSETFROM:+0200
TZOFFSETTO:+0100
TZNAME:CET
DTSTART:20251026T010000
END:STANDARD
END:VTIMEZONE
BEGIN:VEVENT
DTSTART;TZID=Europe/Berlin:20240810T180000
DTEND;TZID=Europe/Berlin:20240810T233000
DTSTAMP:20260421T170229
CREATED:20231010T194604Z
LAST-MODIFIED:20240808T123552Z
UID:10001333-1723312800-1723332600@willingshausen.info
SUMMARY:Schwälmer Modenschau\, Ausverkauft
DESCRIPTION:200 Jahre Künstlerkolonie Willingshausen\n\n\n\n\n\nGezeigt wird der Wandel in der Schwälmer Tracht über die vergangenen zwei Jahrhunderte. Ein exklusives\, bisher nie dagewesenes Highlight für Trachten-Fans. Im Anschluss an die Veranstaltung (voraussichtlich gegen 20:30 Uhr) Weinabend und Piano-Bar mit freiem Eintritt. \n\n\n\n\n\n\n\n2024 – Schwälmer Trachten-Modenschau\n\n\n\n2024 – Schwälmer Modenschau in Willingshausen\n\n\n\n\n\nin Kooperation mit
URL:https://willingshausen.info/termin/schwaelmer-modenschau/
LOCATION:Schlosspark Willingshausen\, Merzhäuser Straße 9\, Willingshausen\, Hessen\, 34628\, Deutschland
CATEGORIES:Kunst und Kultur
ATTACH;FMTTYPE=image/jpeg:https://willingshausen.info/wp-content/uploads/2024/04/2024-IMG_8258-Juergen-Gemmerich-2.jpg
ORGANIZER;CN="Evangelische Kirchengemeinde Merzhausen-Willingshausen":MAILTO:pfarramt.merzhausen@ekkw.de
END:VEVENT
BEGIN:VEVENT
DTSTART;TZID=Europe/Berlin:20240630T180000
DTEND;TZID=Europe/Berlin:20240630T200000
DTSTAMP:20260421T170229
CREATED:20240618T171329Z
LAST-MODIFIED:20240618T171555Z
UID:10001927-1719770400-1719777600@willingshausen.info
SUMMARY:Konzert: Liebe und andere Krankheiten
DESCRIPTION:Erlebt einen feinen und facettenreichen Musikabend\, an dem wir der Liebe mit all‘ den Höhen und Tiefen nachgehen. Von „Je t’aime“ bis „Moi non plus!“.Andreas Olbrich und Thomas Hof singen und spielen sich durch zeitlose und neue Liebeslieder von Element of Crime\, Bill Withers\, Gerhard Gundermann. Damit es nicht zu melancholisch wird\, dürfen Udo Jürgens\, Die Puhdys und natürlich Marianne Rosenberg nicht fehlen. Und Klaus Lage und Johnny Cash passen auf\, dass die Liebe immer eine neue Keimzeit erfährt. Auch nach 1001 Nacht. \n\n\n\nKonzert: Liebe und andere Krankheiten
URL:https://willingshausen.info/termin/konzert-liebe-und-andere-krankheiten/
LOCATION:Evangelische Kirche Merzhausen\, Ziegenhainer Straße 26\, Willingshausen\, 34628\, Deutschland
CATEGORIES:Kunst und Kultur
ATTACH;FMTTYPE=image/png:https://willingshausen.info/wp-content/uploads/2024/06/Konzert_Liebe_.png
ORGANIZER;CN="Evangelische Kirchengemeinde Merzhausen-Willingshausen":MAILTO:pfarramt.merzhausen@ekkw.de
END:VEVENT
BEGIN:VEVENT
DTSTART;TZID=Europe/Berlin:20240629T150000
DTEND;TZID=Europe/Berlin:20240629T180000
DTSTAMP:20260421T170229
CREATED:20240618T174849Z
LAST-MODIFIED:20240618T175103Z
UID:10001928-1719673200-1719684000@willingshausen.info
SUMMARY:Sommerfest Kita Willingshausen
DESCRIPTION:in der Grillhütte Merzhausen
URL:https://willingshausen.info/termin/sommerfest-kita-willingshausen/
CATEGORIES:Kirche
ORGANIZER;CN="Evangelische Kirchengemeinde Merzhausen-Willingshausen":MAILTO:pfarramt.merzhausen@ekkw.de
END:VEVENT
BEGIN:VEVENT
DTSTART;TZID=Europe/Berlin:20240626T143000
DTEND;TZID=Europe/Berlin:20240626T160000
DTSTAMP:20260421T170229
CREATED:20240619T125714Z
LAST-MODIFIED:20240619T125717Z
UID:10001929-1719412200-1719417600@willingshausen.info
SUMMARY:Kaffeeklatsch mit der Pfarrerin
DESCRIPTION:
URL:https://willingshausen.info/termin/kaffeeklatsch-mit-der-pfarrerin-7/
LOCATION:Gemeindehaus Merzhausen\, Bergstraße 4\, Willingshausen\, 34628\, Deutschland
CATEGORIES:Kirche
ORGANIZER;CN="Evangelische Kirchengemeinde Merzhausen-Willingshausen":MAILTO:pfarramt.merzhausen@ekkw.de
END:VEVENT
BEGIN:VEVENT
DTSTART;TZID=Europe/Berlin:20240529T143000
DTEND;TZID=Europe/Berlin:20240529T160000
DTSTAMP:20260421T170229
CREATED:20240206T152151Z
LAST-MODIFIED:20240206T160817Z
UID:10001793-1716993000-1716998400@willingshausen.info
SUMMARY:Kaffeeklatsch mit der Pfarrerin
DESCRIPTION:
URL:https://willingshausen.info/termin/kaffeeklatsch-mit-der-pfarrerin-3/
LOCATION:Gemeindehaus (Altes Pfarrhaus)\, Merzhäuser Str. 24\, Willingshausen\, 34628
CATEGORIES:Kirche
ATTACH;FMTTYPE=image/jpeg:https://willingshausen.info/wp-content/uploads/2023/02/Gemeindehaus-Sitemap.jpg
ORGANIZER;CN="Evangelische Kirchengemeinde Merzhausen-Willingshausen":MAILTO:pfarramt.merzhausen@ekkw.de
END:VEVENT
BEGIN:VEVENT
DTSTART;TZID=Europe/Berlin:20240526T140000
DTEND;TZID=Europe/Berlin:20240526T180000
DTSTAMP:20260421T170229
CREATED:20240323T153316Z
LAST-MODIFIED:20240519T223611Z
UID:10001810-1716732000-1716746400@willingshausen.info
SUMMARY:Fußballturnier
DESCRIPTION:Am Sonntag\, den 26.Mai findet um 14:00 Uhr ein Fußballturnier der Kirchengemeinde Merzhausen-Willingshausen statt. Das Fußballturnier wird mit einem Gottesdienst auf dem Sportplatz Merzhausen eröffnet. Im Anschluss treten sechs Mannschaften gegeneinander an. Unter anderem spielen auf dem PlatzBürgermeister Luca Fritsch\, Kita-Leitung Claudia Schmidt\, Pfarrerin Katharina Betz. Es lohnt sich zu kommen. Außerdem gibt es Kaltgetränke\, Kaffee und Kuchen und Würstchen.  \n\n\n\n2024-05-26\, Fußballturnier\, Evangelische Kirchengemeinde Merzhausen-Willingshausen
URL:https://willingshausen.info/termin/fussballturnier/
LOCATION:Sportplatz Merzhausen\, An der Erl 2\, Willingshausen/Merzhausen\, 34628\, Deutschland
CATEGORIES:Dorfgeschehen,Kirche,Sport
ATTACH;FMTTYPE=image/jpeg:https://willingshausen.info/wp-content/uploads/2024/05/Fussballtunier-2.jpg
ORGANIZER;CN="Evangelische Kirchengemeinde Merzhausen-Willingshausen":MAILTO:pfarramt.merzhausen@ekkw.de
END:VEVENT
BEGIN:VEVENT
DTSTART;TZID=Europe/Berlin:20240424T143000
DTEND;TZID=Europe/Berlin:20240424T160000
DTSTAMP:20260421T170229
CREATED:20240206T151906Z
LAST-MODIFIED:20240206T160726Z
UID:10001792-1713969000-1713974400@willingshausen.info
SUMMARY:Kaffeeklatsch mit der Pfarrerin
DESCRIPTION:
URL:https://willingshausen.info/termin/kaffeeklatsch-mit-der-pfarrerin-2/
LOCATION:Gemeindehaus (Altes Pfarrhaus)\, Merzhäuser Str. 24\, Willingshausen\, 34628
CATEGORIES:Kirche
ATTACH;FMTTYPE=image/jpeg:https://willingshausen.info/wp-content/uploads/2023/02/Gemeindehaus-Sitemap.jpg
ORGANIZER;CN="Evangelische Kirchengemeinde Merzhausen-Willingshausen":MAILTO:pfarramt.merzhausen@ekkw.de
END:VEVENT
BEGIN:VEVENT
DTSTART;TZID=Europe/Berlin:20240328T143000
DTEND;TZID=Europe/Berlin:20240328T160000
DTSTAMP:20260421T170229
CREATED:20240206T151749Z
LAST-MODIFIED:20240206T151751Z
UID:10001791-1711636200-1711641600@willingshausen.info
SUMMARY:Kaffeeklatsch mit der Pfarrerin
DESCRIPTION:
URL:https://willingshausen.info/termin/kaffeeklatsch-mit-der-pfarrerin/
LOCATION:Gemeindehaus (Altes Pfarrhaus)\, Merzhäuser Str. 24\, Willingshausen\, 34628
CATEGORIES:Kirche
ATTACH;FMTTYPE=image/jpeg:https://willingshausen.info/wp-content/uploads/2023/02/Gemeindehaus-Sitemap-1.jpg
ORGANIZER;CN="Evangelische Kirchengemeinde Merzhausen-Willingshausen":MAILTO:pfarramt.merzhausen@ekkw.de
END:VEVENT
BEGIN:VEVENT
DTSTART;TZID=Europe/Berlin:20240302T163000
DTEND;TZID=Europe/Berlin:20240302T183000
DTSTAMP:20260421T170229
CREATED:20240206T153753Z
LAST-MODIFIED:20240206T153755Z
UID:10001796-1709397000-1709404200@willingshausen.info
SUMMARY:Superheldenparty (Kirchenkids)
DESCRIPTION:Für alle Kinder von 9-13 Jahre. Wenn die Kinder mögen können sie sich gern verkleiden. Anmeldung gern an: pfarramt.merzhausen@ekkw.de  \n\n\n\nSuperhelden-Party Kirchenkids
URL:https://willingshausen.info/termin/superheldenparty-kirchenkids/
LOCATION:Gemeindehaus (Altes Pfarrhaus)\, Merzhäuser Str. 24\, Willingshausen\, 34628
CATEGORIES:Kirche
ATTACH;FMTTYPE=image/png:https://willingshausen.info/wp-content/uploads/2024/02/SuperheldenParty-Kirchenkidsi-kl.png
ORGANIZER;CN="Evangelische Kirchengemeinde Merzhausen-Willingshausen":MAILTO:pfarramt.merzhausen@ekkw.de
END:VEVENT
BEGIN:VEVENT
DTSTART;TZID=Europe/Berlin:20240228T143000
DTEND;TZID=Europe/Berlin:20240228T160000
DTSTAMP:20260421T170229
CREATED:20240206T152447Z
LAST-MODIFIED:20240206T152448Z
UID:10001795-1709130600-1709136000@willingshausen.info
SUMMARY:Kaffeeklatsch mit der Pfarrerin
DESCRIPTION:
URL:https://willingshausen.info/termin/kaffeeklatsch-mit-der-pfarrerin-5/
LOCATION:Gemeindehaus (Altes Pfarrhaus)\, Merzhäuser Str. 24\, Willingshausen\, 34628
CATEGORIES:Kirche
ATTACH;FMTTYPE=image/jpeg:https://willingshausen.info/wp-content/uploads/2023/02/Gemeindehaus-Sitemap.jpg
ORGANIZER;CN="Evangelische Kirchengemeinde Merzhausen-Willingshausen":MAILTO:pfarramt.merzhausen@ekkw.de
END:VEVENT
BEGIN:VEVENT
DTSTART;TZID=Europe/Berlin:20240225T180000
DTEND;TZID=Europe/Berlin:20240225T190000
DTSTAMP:20260421T170229
CREATED:20240205T214642Z
LAST-MODIFIED:20240205T214815Z
UID:10001787-1708884000-1708887600@willingshausen.info
SUMMARY:Abendgottesdienst
DESCRIPTION:Abendgottesdienst  \n\n\n\nSingersongwriter mit besonderer Musik
URL:https://willingshausen.info/termin/abendgottesdienst/
LOCATION:Evangelische Kirche Willingshausen\, Merzhäuser Straße 17\, Willingshausen\, 34628\, Deutschland
CATEGORIES:Kirche
ORGANIZER;CN="Evangelische Kirchengemeinde Merzhausen-Willingshausen":MAILTO:pfarramt.merzhausen@ekkw.de
END:VEVENT
BEGIN:VEVENT
DTSTART;TZID=Europe/Berlin:20231118T093000
DTEND;TZID=Europe/Berlin:20231118T130000
DTSTAMP:20260421T170229
CREATED:20231012T135425Z
LAST-MODIFIED:20231113T143345Z
UID:10001336-1700299800-1700312400@willingshausen.info
SUMMARY:Friedhofspflegeaktion
DESCRIPTION:Friedhofspflegeaktion auf unserem Friedhof in Willingshausen am 11. und 18. November.Wir freuen uns über helfende Hände.
URL:https://willingshausen.info/termin/friedhofspflegeaktion/2023-11-18/
LOCATION:Friedhof Willingshausen\, Neustädter Straße\, Willingshausen\, Hessen\, 34628\, Deutschland
CATEGORIES:Dorfgemeinschaft
ATTACH;FMTTYPE=image/jpeg:https://willingshausen.info/wp-content/uploads/2023/11/Friedhof-Willingshausen.jpg
ORGANIZER;CN="Evangelische Kirchengemeinde Merzhausen-Willingshausen":MAILTO:pfarramt.merzhausen@ekkw.de
END:VEVENT
BEGIN:VEVENT
DTSTART;TZID=Europe/Berlin:20231014T170000
DTEND;TZID=Europe/Berlin:20231014T190000
DTSTAMP:20260421T170229
CREATED:20231010T191637Z
LAST-MODIFIED:20231010T191844Z
UID:10001331-1697302800-1697310000@willingshausen.info
SUMMARY:Lagerfeuergottesdienst
DESCRIPTION:Ein Gottesdienst mit Lagerfeuermusik\, Aktionen\, Stockbrot \n\n\n\nEv. Gemeindehaus Willingshausen – Lagerfeuergottesdienst am Gemeindehaus Willingshausen
URL:https://willingshausen.info/termin/lagerfeuergottesdienst/
LOCATION:Gemeindehaus (Altes Pfarrhaus)\, Merzhäuser Str. 24\, Willingshausen\, 34628
CATEGORIES:Kirche
ATTACH;FMTTYPE=image/jpeg:https://willingshausen.info/wp-content/uploads/2023/02/Gemeindehaus-Sitemap-1.jpg
ORGANIZER;CN="Evangelische Kirchengemeinde Merzhausen-Willingshausen":MAILTO:pfarramt.merzhausen@ekkw.de
END:VEVENT
BEGIN:VEVENT
DTSTART;TZID=Europe/Berlin:20230514T100000
DTEND;TZID=Europe/Berlin:20230514T130000
DTSTAMP:20260421T170229
CREATED:20230313T213930Z
LAST-MODIFIED:20230313T214205Z
UID:10000217-1684058400-1684069200@willingshausen.info
SUMMARY:Goldene Konfirmation
DESCRIPTION:
URL:https://willingshausen.info/termin/goldene-konfirmation/
LOCATION:Evangelische Kirche Willingshausen\, Merzhäuser Straße 17\, Willingshausen\, 34628\, Deutschland
CATEGORIES:Kirche
ORGANIZER;CN="Evangelische Kirchengemeinde Merzhausen-Willingshausen":MAILTO:pfarramt.merzhausen@ekkw.de
END:VEVENT
END:VCALENDAR