BEGIN:VCALENDAR
VERSION:2.0
PRODID:-//Willingshausen (Ortsteil) - ECPv6.15.20//NONSGML v1.0//EN
CALSCALE:GREGORIAN
METHOD:PUBLISH
X-ORIGINAL-URL:https://willingshausen.info
X-WR-CALDESC:Veranstaltungen für Willingshausen (Ortsteil)
REFRESH-INTERVAL;VALUE=DURATION:PT1H
X-Robots-Tag:noindex
X-PUBLISHED-TTL:PT1H
BEGIN:VTIMEZONE
TZID:Europe/Berlin
BEGIN:DAYLIGHT
TZOFFSETFROM:+0100
TZOFFSETTO:+0200
TZNAME:CEST
DTSTART:20220327T010000
END:DAYLIGHT
BEGIN:STANDARD
TZOFFSETFROM:+0200
TZOFFSETTO:+0100
TZNAME:CET
DTSTART:20221030T010000
END:STANDARD
BEGIN:DAYLIGHT
TZOFFSETFROM:+0100
TZOFFSETTO:+0200
TZNAME:CEST
DTSTART:20230326T010000
END:DAYLIGHT
BEGIN:STANDARD
TZOFFSETFROM:+0200
TZOFFSETTO:+0100
TZNAME:CET
DTSTART:20231029T010000
END:STANDARD
BEGIN:DAYLIGHT
TZOFFSETFROM:+0100
TZOFFSETTO:+0200
TZNAME:CEST
DTSTART:20240331T010000
END:DAYLIGHT
BEGIN:STANDARD
TZOFFSETFROM:+0200
TZOFFSETTO:+0100
TZNAME:CET
DTSTART:20241027T010000
END:STANDARD
BEGIN:DAYLIGHT
TZOFFSETFROM:+0100
TZOFFSETTO:+0200
TZNAME:CEST
DTSTART:20250330T010000
END:DAYLIGHT
BEGIN:STANDARD
TZOFFSETFROM:+0200
TZOFFSETTO:+0100
TZNAME:CET
DTSTART:20251026T010000
END:STANDARD
BEGIN:DAYLIGHT
TZOFFSETFROM:+0100
TZOFFSETTO:+0200
TZNAME:CEST
DTSTART:20260329T010000
END:DAYLIGHT
BEGIN:STANDARD
TZOFFSETFROM:+0200
TZOFFSETTO:+0100
TZNAME:CET
DTSTART:20261025T010000
END:STANDARD
END:VTIMEZONE
BEGIN:VEVENT
DTSTART;TZID=Europe/Berlin:20251127T153000
DTEND;TZID=Europe/Berlin:20251127T194500
DTSTAMP:20260424T120728
CREATED:20250117T172315Z
LAST-MODIFIED:20250117T172317Z
UID:10002059-1764257400-1764272700@willingshausen.info
SUMMARY:Blutspende-Termin
DESCRIPTION:Blutspendetermin des DRK Ortsvereins Willingshausen. Eine Vorabanmeldung über das Portal des Blutspendedienstes Hessen – Baden-Württemberg ist notwendig. Reservierungs-Link
URL:https://willingshausen.info/termin/blutspende-termin-10/
LOCATION:Antreffhalle Willingshausen\, Brüder Grimm Straße\, Willingshausen\, 34628\, Deutschland
CATEGORIES:Gesundheit,Vereine
ATTACH;FMTTYPE=image/png:https://willingshausen.info/wp-content/uploads/2023/03/Blutspenden_Logo-e1678471628687.png
END:VEVENT
BEGIN:VEVENT
DTSTART;TZID=Europe/Berlin:20250911T153000
DTEND;TZID=Europe/Berlin:20250911T194500
DTSTAMP:20260424T120728
CREATED:20250117T171923Z
LAST-MODIFIED:20250117T171925Z
UID:10002057-1757604600-1757619900@willingshausen.info
SUMMARY:Blutspende-Termin
DESCRIPTION:Blutspendetermin des DRK Ortsvereins Willingshausen. Eine Vorabanmeldung über das Portal des Blutspendedienstes Hessen – Baden-Württemberg ist notwendig. Reservierungs-Link
URL:https://willingshausen.info/termin/blutspende-termin-8/
LOCATION:Antreffhalle Willingshausen\, Brüder Grimm Straße\, Willingshausen\, 34628\, Deutschland
CATEGORIES:Gesundheit,Vereine
ATTACH;FMTTYPE=image/png:https://willingshausen.info/wp-content/uploads/2023/03/Blutspenden_Logo-e1678471628687.png
END:VEVENT
BEGIN:VEVENT
DTSTART;TZID=Europe/Berlin:20250605T153000
DTEND;TZID=Europe/Berlin:20250605T194500
DTSTAMP:20260424T120728
CREATED:20250117T171644Z
LAST-MODIFIED:20250117T171646Z
UID:10002056-1749137400-1749152700@willingshausen.info
SUMMARY:Blutspende-Termin
DESCRIPTION:Blutspendetermin des DRK Ortsvereins Willingshausen. Eine Vorabanmeldung über das Portal des Blutspendedienstes Hessen – Baden-Württemberg ist notwendig. Reservierungs-Link
URL:https://willingshausen.info/termin/blutspende-termin-7/
LOCATION:Antreffhalle Willingshausen\, Brüder Grimm Straße\, Willingshausen\, 34628\, Deutschland
CATEGORIES:Gesundheit,Vereine
ATTACH;FMTTYPE=image/png:https://willingshausen.info/wp-content/uploads/2023/03/Blutspenden_Logo-e1678471628687.png
END:VEVENT
BEGIN:VEVENT
DTSTART;TZID=Europe/Berlin:20250227T153000
DTEND;TZID=Europe/Berlin:20250227T194500
DTSTAMP:20260424T120728
CREATED:20250117T172000Z
LAST-MODIFIED:20250117T172158Z
UID:10002058-1740670200-1740685500@willingshausen.info
SUMMARY:Blutspende-Termin
DESCRIPTION:Blutspendetermin des DRK Ortsvereins Willingshausen. Eine Vorabanmeldung über das Portal des Blutspendedienstes Hessen – Baden-Württemberg ist notwendig. Reservierungs-Link
URL:https://willingshausen.info/termin/blutspende-termin-9/
LOCATION:Antreffhalle Willingshausen\, Brüder Grimm Straße\, Willingshausen\, 34628\, Deutschland
CATEGORIES:Gesundheit,Vereine
ATTACH;FMTTYPE=image/png:https://willingshausen.info/wp-content/uploads/2023/03/Blutspenden_Logo-e1678471628687.png
END:VEVENT
BEGIN:VEVENT
DTSTART;TZID=Europe/Berlin:20241219T153000
DTEND;TZID=Europe/Berlin:20241219T194500
DTSTAMP:20260424T120728
CREATED:20240206T133054Z
LAST-MODIFIED:20240206T133211Z
UID:10001790-1734622200-1734637500@willingshausen.info
SUMMARY:Blutspende-Termin
DESCRIPTION:Blutspendetermin des DRK Ortsvereins Willingshausen. Eine Vorabanmeldung über das Portal des Blutspendedienstes Hessen – Baden-Württemberg ist notwendig. Reservierungs-Link
URL:https://willingshausen.info/termin/blutspende-termin-6/
LOCATION:Antreffhalle Willingshausen\, Brüder Grimm Straße\, Willingshausen\, 34628\, Deutschland
CATEGORIES:Gesundheit,Vereine
ATTACH;FMTTYPE=image/png:https://willingshausen.info/wp-content/uploads/2023/03/Blutspenden_Logo-e1678471628687.png
END:VEVENT
BEGIN:VEVENT
DTSTART;TZID=Europe/Berlin:20241017T153000
DTEND;TZID=Europe/Berlin:20241017T194500
DTSTAMP:20260424T120728
CREATED:20240206T133009Z
LAST-MODIFIED:20240206T133341Z
UID:10001789-1729179000-1729194300@willingshausen.info
SUMMARY:Blutspende-Termin
DESCRIPTION:Blutspendetermin des DRK Ortsvereins Willingshausen. Eine Vorabanmeldung über das Portal des Blutspendedienstes Hessen – Baden-Württemberg ist notwendig. Reservierungs-Link
URL:https://willingshausen.info/termin/blutspende-termin-5/
LOCATION:Antreffhalle Willingshausen\, Brüder Grimm Straße\, Willingshausen\, 34628\, Deutschland
CATEGORIES:Gesundheit,Vereine
ATTACH;FMTTYPE=image/png:https://willingshausen.info/wp-content/uploads/2023/03/Blutspenden_Logo-e1678471628687.png
END:VEVENT
BEGIN:VEVENT
DTSTART;TZID=Europe/Berlin:20240815T153000
DTEND;TZID=Europe/Berlin:20240815T194500
DTSTAMP:20260424T120728
CREATED:20240206T132911Z
LAST-MODIFIED:20240206T133431Z
UID:10001788-1723735800-1723751100@willingshausen.info
SUMMARY:Blutspende-Termin
DESCRIPTION:Blutspendetermin des DRK Ortsvereins Willingshausen. Eine Vorabanmeldung über das Portal des Blutspendedienstes Hessen – Baden-Württemberg ist notwendig. Reservierungs-Link
URL:https://willingshausen.info/termin/blutspende-termin-4/
LOCATION:Antreffhalle Willingshausen\, Brüder Grimm Straße\, Willingshausen\, 34628\, Deutschland
CATEGORIES:Gesundheit,Vereine
ATTACH;FMTTYPE=image/png:https://willingshausen.info/wp-content/uploads/2023/03/Blutspenden_Logo-e1678471628687.png
END:VEVENT
BEGIN:VEVENT
DTSTART;TZID=Europe/Berlin:20231221T153000
DTEND;TZID=Europe/Berlin:20231221T193000
DTSTAMP:20260424T120728
CREATED:20230308T111829Z
LAST-MODIFIED:20230308T112108Z
UID:10000214-1703172600-1703187000@willingshausen.info
SUMMARY:Blutspende-Termin
DESCRIPTION:Blutspendetermin des DRK Ortsvereins Willingshausen. Eine Vorabanmeldung über das Portal des Blutspendedienstes Hessen – Baden-Württemberg ist notwendig. Reservierungs-Link
URL:https://willingshausen.info/termin/blutspende-termin-3/
LOCATION:Antreffhalle Willingshausen\, Brüder Grimm Straße\, Willingshausen\, 34628\, Deutschland
CATEGORIES:Gesundheit,Vereine
ATTACH;FMTTYPE=image/png:https://willingshausen.info/wp-content/uploads/2023/03/Blutspenden_Logo-e1678471628687.png
END:VEVENT
BEGIN:VEVENT
DTSTART;TZID=Europe/Berlin:20230824T153000
DTEND;TZID=Europe/Berlin:20230824T193000
DTSTAMP:20260424T120728
CREATED:20230308T111617Z
LAST-MODIFIED:20230308T112020Z
UID:10000213-1692891000-1692905400@willingshausen.info
SUMMARY:Blutspende-Termin
DESCRIPTION:Blutspendetermin des DRK Ortsvereins Willingshausen. Eine Vorabanmeldung über das Portal des Blutspendedienstes Hessen – Baden-Württemberg ist notwendig. Reservierungs-Link
URL:https://willingshausen.info/termin/blutspende-termin-2/
LOCATION:Antreffhalle Willingshausen\, Brüder Grimm Straße\, Willingshausen\, 34628\, Deutschland
CATEGORIES:Gesundheit,Vereine
ATTACH;FMTTYPE=image/png:https://willingshausen.info/wp-content/uploads/2023/03/Blutspenden_Logo-e1678471628687.png
END:VEVENT
BEGIN:VEVENT
DTSTART;TZID=Europe/Berlin:20230616T190000
DTEND;TZID=Europe/Berlin:20230616T210000
DTSTAMP:20260424T120728
CREATED:20230531T224647Z
LAST-MODIFIED:20230615T205037Z
UID:10000381-1686942000-1686949200@willingshausen.info
SUMMARY:Jahreshauptversammlung DRK Ortsverein
DESCRIPTION:Jahreshauptversammlung DRK Ortsverein Willingshausen
URL:https://willingshausen.info/termin/jahreshauptversammlung-drk/
LOCATION:DRK-Stützpunkt\, Pfarrweg 6\, Willingshausen\, 34628
CATEGORIES:Vereine
ATTACH;FMTTYPE=image/jpeg:https://willingshausen.info/wp-content/uploads/2023/06/DRK-Logo.jpg
END:VEVENT
BEGIN:VEVENT
DTSTART;TZID=Europe/Berlin:20230427T153000
DTEND;TZID=Europe/Berlin:20230427T193000
DTSTAMP:20260424T120728
CREATED:20230308T111002Z
LAST-MODIFIED:20230310T181017Z
UID:10000207-1682609400-1682623800@willingshausen.info
SUMMARY:Blutspende-Termin
DESCRIPTION:Blutspendetermin des DRK Ortsvereins Willingshausen. Eine Vorabanmeldung über das Portal des Blutspendedienstes Hessen – Baden-Württemberg ist notwendig. Reservierungs-Link
URL:https://willingshausen.info/termin/blutspende-termin/
LOCATION:Antreffhalle Willingshausen\, Brüder Grimm Straße\, Willingshausen\, 34628\, Deutschland
CATEGORIES:Gesundheit,Vereine
ATTACH;FMTTYPE=image/png:https://willingshausen.info/wp-content/uploads/2023/03/Blutspenden_Logo-e1678471628687.png
END:VEVENT
END:VCALENDAR