BEGIN:VCALENDAR
VERSION:2.0
PRODID:-//Willingshausen (Ortsteil) - ECPv6.15.20//NONSGML v1.0//EN
CALSCALE:GREGORIAN
METHOD:PUBLISH
X-ORIGINAL-URL:https://willingshausen.info
X-WR-CALDESC:Veranstaltungen für Willingshausen (Ortsteil)
REFRESH-INTERVAL;VALUE=DURATION:PT1H
X-Robots-Tag:noindex
X-PUBLISHED-TTL:PT1H
BEGIN:VTIMEZONE
TZID:Europe/Berlin
BEGIN:DAYLIGHT
TZOFFSETFROM:+0100
TZOFFSETTO:+0200
TZNAME:CEST
DTSTART:20240331T010000
END:DAYLIGHT
BEGIN:STANDARD
TZOFFSETFROM:+0200
TZOFFSETTO:+0100
TZNAME:CET
DTSTART:20241027T010000
END:STANDARD
BEGIN:DAYLIGHT
TZOFFSETFROM:+0100
TZOFFSETTO:+0200
TZNAME:CEST
DTSTART:20250330T010000
END:DAYLIGHT
BEGIN:STANDARD
TZOFFSETFROM:+0200
TZOFFSETTO:+0100
TZNAME:CET
DTSTART:20251026T010000
END:STANDARD
BEGIN:DAYLIGHT
TZOFFSETFROM:+0100
TZOFFSETTO:+0200
TZNAME:CEST
DTSTART:20260329T010000
END:DAYLIGHT
BEGIN:STANDARD
TZOFFSETFROM:+0200
TZOFFSETTO:+0100
TZNAME:CET
DTSTART:20261025T010000
END:STANDARD
END:VTIMEZONE
BEGIN:VEVENT
DTSTART;TZID=Europe/Berlin:20251006T140000
DTEND;TZID=Europe/Berlin:20251006T180000
DTSTAMP:20260421T132523
CREATED:20250924T121838Z
LAST-MODIFIED:20250924T170608Z
UID:10002284-1759759200-1759773600@willingshausen.info
SUMMARY:🎨✨ Graffiti & Angeln – Kreativ-Workshop 🎣✨
DESCRIPTION:Der ASV Libelle e.V. Willingshausen lädt ein: \n\n\n\n📅 Termine: 22.09. | 29.09. | 06.10. 🕑 jeweils 14 – 18 Uhr 📍 Treffpunkt: Weltkulturhaus Willingshausen Alter: ab 8 Jahre \n\n\n\n👉 Du malst oder zeichnest gerne – oder wolltest schon immer mal mit Sprühdosen kreativ werden? Dann bist du hier genau richtig! Wir streichen vor\, entwerfen Stencil-Vorlagen und gestalten gemeinsam den Angelwagen. Dazu gibt’s wertvolle Tipps & Tricks rund ums Angeln. 🐟 \n\n\n\n\n\n\n\n📩 Anmeldung unter: projektewillingshausen@outlook.de \n\n\n\nGefördert durch das Regionalbudget 2025.
URL:https://willingshausen.info/termin/%f0%9f%8e%a8%e2%9c%a8-graffiti-angeln-kreativ-workshop-%f0%9f%8e%a3%e2%9c%a8/2025-10-06/
LOCATION:Weltkulturhaus (Gerhardt-von-Reutern-Haus)\, Merzhäuser Straße 1\, Willingshausen\, 34628\, Deutschland
CATEGORIES:Kinder,Kunst und Kultur,Vereine
ORGANIZER;CN="ASV Libelle Willingshausen":MAILTO:ASV-Libelle@web.de
END:VEVENT
BEGIN:VEVENT
DTSTART;TZID=Europe/Berlin:20250823T180000
DTEND;TZID=Europe/Berlin:20250824T170000
DTSTAMP:20260421T132523
CREATED:20250130T150336Z
LAST-MODIFIED:20250423T212723Z
UID:10002096-1755972000-1756054800@willingshausen.info
SUMMARY:Forellenessen in Willingshausen
DESCRIPTION:Das alljährliche Forellenessen des Angelsportvereins Libelle Willingshausen findet auch in diesem Jahr vor und in den Räumen des DRK Ortsvereins Willingshausen in der Zeit von Samstag\, den 23. August\, ab 18:00 Uhr bis Sonntag\, 24. August\, um 17:00 Uhr statt. \n\n\n\nIm Angebot sind gebratene und geräucherte Forellen sowie Grillspezialitäten. Des Weiteren werden kühle Getränke sowie Kaffee und Kuchen angeboten (Sonntag). Ebenfalls am Sonntag steht für die Kinder eine Hüpfburg bereit.
URL:https://willingshausen.info/termin/forellenessen-in-willingshausen/
LOCATION:DRK-Stützpunkt\, Pfarrweg 6\, Willingshausen\, 34628
CATEGORIES:Vereine
ATTACH;FMTTYPE=image/jpeg:https://willingshausen.info/wp-content/uploads/2023/02/20210610_180751_2.jpg
ORGANIZER;CN="ASV Libelle Willingshausen":MAILTO:ASV-Libelle@web.de
END:VEVENT
END:VCALENDAR